BEGIN:VCALENDAR
VERSION:2.0
PRODID:-//St Paul&#039;s Cathedral Melbourne - ECPv6.15.20//NONSGML v1.0//EN
CALSCALE:GREGORIAN
METHOD:PUBLISH
X-WR-CALNAME:St Paul&#039;s Cathedral Melbourne
X-ORIGINAL-URL:https://cathedral.org.au
X-WR-CALDESC:Events for St Paul&#039;s Cathedral Melbourne
REFRESH-INTERVAL;VALUE=DURATION:PT1H
X-Robots-Tag:noindex
X-PUBLISHED-TTL:PT1H
BEGIN:VTIMEZONE
TZID:Australia/Melbourne
BEGIN:STANDARD
TZOFFSETFROM:+1100
TZOFFSETTO:+1000
TZNAME:AEST
DTSTART:20210403T160000
END:STANDARD
BEGIN:DAYLIGHT
TZOFFSETFROM:+1000
TZOFFSETTO:+1100
TZNAME:AEDT
DTSTART:20211002T160000
END:DAYLIGHT
BEGIN:STANDARD
TZOFFSETFROM:+1100
TZOFFSETTO:+1000
TZNAME:AEST
DTSTART:20220402T160000
END:STANDARD
BEGIN:DAYLIGHT
TZOFFSETFROM:+1000
TZOFFSETTO:+1100
TZNAME:AEDT
DTSTART:20221001T160000
END:DAYLIGHT
BEGIN:STANDARD
TZOFFSETFROM:+1100
TZOFFSETTO:+1000
TZNAME:AEST
DTSTART:20230401T160000
END:STANDARD
BEGIN:DAYLIGHT
TZOFFSETFROM:+1000
TZOFFSETTO:+1100
TZNAME:AEDT
DTSTART:20230930T160000
END:DAYLIGHT
END:VTIMEZONE
BEGIN:VEVENT
DTSTART;TZID=Australia/Melbourne:20220615T130000
DTEND;TZID=Australia/Melbourne:20220615T133000
DTSTAMP:20260420T095508
CREATED:20220607T043920Z
LAST-MODIFIED:20220607T043920Z
UID:32920-1655298000-1655299800@cathedral.org.au
SUMMARY:Concert | The Trumpet Shall Sound
DESCRIPTION:Melbourne-born pianist Tyler Zhou studies piano with Australian pianist and academic David Soo. Tyler has received many prizes\, including winning the Absolute Award at the Singapore International Music Competition\, and first prize in the Dandenong Ranges Bill Borthwick Music Competition… Read More Lunchtime Concert | Tyler Zhou (piano)
URL:https://cathedral.org.au/event/concert-the-trumpet-shall-sound/
LOCATION:St Paul’s Cathedral\, Melbourne\, 206 Flinders Street\, Melbourne\, Victoria\, 3000\, Australia
CATEGORIES:Gaia,Lunchtime Concert Series
ATTACH;FMTTYPE=image/jpeg:https://cathedral.org.au/wp-content/uploads/2022/06/285998482_753269359435577_2802849597154850851_n.jpg
END:VEVENT
BEGIN:VEVENT
DTSTART;TZID=Australia/Melbourne:20220608T130000
DTEND;TZID=Australia/Melbourne:20220608T133000
DTSTAMP:20260420T095508
CREATED:20220525T004930Z
LAST-MODIFIED:20220525T004930Z
UID:32785-1654693200-1654695000@cathedral.org.au
SUMMARY:Concert | Ben Fu (piano)
DESCRIPTION:Melbourne-born pianist Tyler Zhou studies piano with Australian pianist and academic David Soo. Tyler has received many prizes\, including winning the Absolute Award at the Singapore International Music Competition\, and first prize in the Dandenong Ranges Bill Borthwick Music Competition… Read More Lunchtime Concert | Tyler Zhou (piano)
URL:https://cathedral.org.au/event/concert-ben-fu-piano/
LOCATION:St Paul’s Cathedral\, Melbourne\, 206 Flinders Street\, Melbourne\, Victoria\, 3000\, Australia
CATEGORIES:Lunchtime Concert Series
ATTACH;FMTTYPE=image/jpeg:https://cathedral.org.au/wp-content/uploads/2022/05/Ben-Fu.jpg
END:VEVENT
BEGIN:VEVENT
DTSTART;TZID=Australia/Melbourne:20220605T160000
DTEND;TZID=Australia/Melbourne:20220605T170000
DTSTAMP:20260420T095508
CREATED:20220518T064641Z
LAST-MODIFIED:20220518T064641Z
UID:26472-1654444800-1654448400@cathedral.org.au
SUMMARY:Services | Thy Kingdom Come Beacon Event
DESCRIPTION:Melbourne-born pianist Tyler Zhou studies piano with Australian pianist and academic David Soo. Tyler has received many prizes\, including winning the Absolute Award at the Singapore International Music Competition\, and first prize in the Dandenong Ranges Bill Borthwick Music Competition… Read More Lunchtime Concert | Tyler Zhou (piano)
URL:https://cathedral.org.au/event/services-thy-kingdom-come-beacon-event/
LOCATION:St Paul’s Cathedral\, Melbourne\, 206 Flinders Street\, Melbourne\, Victoria\, 3000\, Australia
CATEGORIES:Services
ATTACH;FMTTYPE=image/jpeg:https://cathedral.org.au/wp-content/uploads/2022/04/TKCBanner-2022.jpeg
END:VEVENT
BEGIN:VEVENT
DTSTART;TZID=Australia/Melbourne:20220601T130000
DTEND;TZID=Australia/Melbourne:20220601T133000
DTSTAMP:20260420T095508
CREATED:20220525T004747Z
LAST-MODIFIED:20220525T004747Z
UID:32780-1654088400-1654090200@cathedral.org.au
SUMMARY:Concert | Melbourne Conservatorium Chamber Choir
DESCRIPTION:Melbourne-born pianist Tyler Zhou studies piano with Australian pianist and academic David Soo. Tyler has received many prizes\, including winning the Absolute Award at the Singapore International Music Competition\, and first prize in the Dandenong Ranges Bill Borthwick Music Competition… Read More Lunchtime Concert | Tyler Zhou (piano)
URL:https://cathedral.org.au/event/concert-melbourne-conservatorium-chamber-choir/
LOCATION:St Paul’s Cathedral\, Melbourne\, 206 Flinders Street\, Melbourne\, Victoria\, 3000\, Australia
CATEGORIES:Lunchtime Concert Series
ATTACH;FMTTYPE=image/webp:https://cathedral.org.au/wp-content/uploads/2022/05/Dvorak.webp
END:VEVENT
BEGIN:VEVENT
DTSTART;TZID=Australia/Melbourne:20220531T183000
DTEND;TZID=Australia/Melbourne:20220531T203000
DTSTAMP:20260420T095508
CREATED:20220420T031316Z
LAST-MODIFIED:20220420T031316Z
UID:26072-1654021800-1654029000@cathedral.org.au
SUMMARY:Gaia | Book Launch: The Forest Underground by Tony Rinaudo
DESCRIPTION:Melbourne-born pianist Tyler Zhou studies piano with Australian pianist and academic David Soo. Tyler has received many prizes\, including winning the Absolute Award at the Singapore International Music Competition\, and first prize in the Dandenong Ranges Bill Borthwick Music Competition… Read More Lunchtime Concert | Tyler Zhou (piano)
URL:https://cathedral.org.au/event/gaia-book-launch-the-forest-underground-by-tony-rinaudo/
LOCATION:St Paul’s Cathedral\, Melbourne\, 206 Flinders Street\, Melbourne\, Victoria\, 3000\, Australia
CATEGORIES:Gaia
ATTACH;FMTTYPE=image/jpeg:https://cathedral.org.au/wp-content/uploads/2022/04/BookLaunch_Banner.jpg
ORGANIZER;CN="St Paul's Cathedral":MAILTO:events@stpaulscathedral.org.au
END:VEVENT
BEGIN:VEVENT
DTSTART;TZID=Australia/Melbourne:20220529T160000
DTEND;TZID=Australia/Melbourne:20220529T170000
DTSTAMP:20260420T095508
CREATED:20220518T064128Z
LAST-MODIFIED:20220518T064128Z
UID:26468-1653840000-1653843600@cathedral.org.au
SUMMARY:Service | National Reconciliation Week
DESCRIPTION:Melbourne-born pianist Tyler Zhou studies piano with Australian pianist and academic David Soo. Tyler has received many prizes\, including winning the Absolute Award at the Singapore International Music Competition\, and first prize in the Dandenong Ranges Bill Borthwick Music Competition… Read More Lunchtime Concert | Tyler Zhou (piano)
URL:https://cathedral.org.au/event/service-national-reconciliation-week/
LOCATION:St Paul’s Cathedral\, Melbourne\, 206 Flinders Street\, Melbourne\, Victoria\, 3000\, Australia
CATEGORIES:Services
ATTACH;FMTTYPE=image/jpeg:https://cathedral.org.au/wp-content/uploads/2022/05/Photo-8-5-22-3-57-49-pm.jpg
END:VEVENT
BEGIN:VEVENT
DTSTART;TZID=Australia/Melbourne:20220528T170000
DTEND;TZID=Australia/Melbourne:20220528T190000
DTSTAMP:20260420T095508
CREATED:20220426T222739Z
LAST-MODIFIED:20220429T114123Z
UID:26185-1653757200-1653764400@cathedral.org.au
SUMMARY:Concert | Puccini’s Messa di Gloria • Victoria Chorale
DESCRIPTION:Melbourne-born pianist Tyler Zhou studies piano with Australian pianist and academic David Soo. Tyler has received many prizes\, including winning the Absolute Award at the Singapore International Music Competition\, and first prize in the Dandenong Ranges Bill Borthwick Music Competition… Read More Lunchtime Concert | Tyler Zhou (piano)
URL:https://cathedral.org.au/event/concert-puccinis-messa-di-gloria-victoria-chorale/
LOCATION:St Paul’s Cathedral\, Melbourne\, 206 Flinders Street\, Melbourne\, Victoria\, 3000\, Australia
CATEGORIES:Concerts & Performances,Gaia
ATTACH;FMTTYPE=image/jpeg:https://cathedral.org.au/wp-content/uploads/2022/04/266978910_4518030811616415_5126494929473183491_n.jpg
END:VEVENT
BEGIN:VEVENT
DTSTART;TZID=Australia/Melbourne:20220522T160000
DTEND;TZID=Australia/Melbourne:20220522T170000
DTSTAMP:20260420T095508
CREATED:20220504T063804Z
LAST-MODIFIED:20220513T031506Z
UID:26338-1653235200-1653238800@cathedral.org.au
SUMMARY:Service | 150th Anniversary of the opening of Trinity College
DESCRIPTION:Melbourne-born pianist Tyler Zhou studies piano with Australian pianist and academic David Soo. Tyler has received many prizes\, including winning the Absolute Award at the Singapore International Music Competition\, and first prize in the Dandenong Ranges Bill Borthwick Music Competition… Read More Lunchtime Concert | Tyler Zhou (piano)
URL:https://cathedral.org.au/event/service-150th-anniversary-of-the-opening-of-trinity-college/
LOCATION:St Paul’s Cathedral\, Melbourne\, 206 Flinders Street\, Melbourne\, Victoria\, 3000\, Australia
ATTACH;FMTTYPE=image/png:https://cathedral.org.au/wp-content/uploads/2022/05/COVERtrinity_img_01_h-2560x1440-1.png
END:VEVENT
BEGIN:VEVENT
DTSTART;TZID=Australia/Melbourne:20220518T130000
DTEND;TZID=Australia/Melbourne:20220518T133000
DTSTAMP:20260420T095508
CREATED:20220516T024112Z
LAST-MODIFIED:20220516T024112Z
UID:26440-1652878800-1652880600@cathedral.org.au
SUMMARY:Concert | Anna Gao (piano)
DESCRIPTION:Melbourne-born pianist Tyler Zhou studies piano with Australian pianist and academic David Soo. Tyler has received many prizes\, including winning the Absolute Award at the Singapore International Music Competition\, and first prize in the Dandenong Ranges Bill Borthwick Music Competition… Read More Lunchtime Concert | Tyler Zhou (piano)
URL:https://cathedral.org.au/event/concert-anna-gao-piano/
LOCATION:St Paul’s Cathedral\, Melbourne\, 206 Flinders Street\, Melbourne\, Victoria\, 3000\, Australia
CATEGORIES:Gaia,Lunchtime Concert Series
ATTACH;FMTTYPE=image/jpeg:https://cathedral.org.au/wp-content/uploads/2022/05/Anna-Gao.jpg
END:VEVENT
BEGIN:VEVENT
DTSTART;TZID=Australia/Melbourne:20220515T160000
DTEND;TZID=Australia/Melbourne:20220515T170000
DTSTAMP:20260420T095508
CREATED:20220426T120346Z
LAST-MODIFIED:20220426T120346Z
UID:26159-1652630400-1652634000@cathedral.org.au
SUMMARY:Service | Easter Carols Service
DESCRIPTION:Melbourne-born pianist Tyler Zhou studies piano with Australian pianist and academic David Soo. Tyler has received many prizes\, including winning the Absolute Award at the Singapore International Music Competition\, and first prize in the Dandenong Ranges Bill Borthwick Music Competition… Read More Lunchtime Concert | Tyler Zhou (piano)
URL:https://cathedral.org.au/event/service-easter-carols-service/
LOCATION:Victoria
CATEGORIES:Services
ATTACH;FMTTYPE=image/jpeg:https://cathedral.org.au/wp-content/uploads/2021/06/IMG_2903-1.jpg
ORGANIZER;CN="St Paul's Cathedral":MAILTO:events@stpaulscathedral.org.au
END:VEVENT
BEGIN:VEVENT
DTSTART;TZID=Australia/Melbourne:20220511T130000
DTEND;TZID=Australia/Melbourne:20220511T133000
DTSTAMP:20260420T095508
CREATED:20220426T120614Z
LAST-MODIFIED:20220426T120614Z
UID:26162-1652274000-1652275800@cathedral.org.au
SUMMARY:Gaia | Lunchtime Concert • Colin Andrews (Organ)
DESCRIPTION:Melbourne-born pianist Tyler Zhou studies piano with Australian pianist and academic David Soo. Tyler has received many prizes\, including winning the Absolute Award at the Singapore International Music Competition\, and first prize in the Dandenong Ranges Bill Borthwick Music Competition… Read More Lunchtime Concert | Tyler Zhou (piano)
URL:https://cathedral.org.au/event/gaia-lunchtime-concert-colin-andrews-organ/
LOCATION:St Paul’s Cathedral\, Melbourne\, 206 Flinders Street\, Melbourne\, Victoria\, 3000\, Australia
CATEGORIES:Gaia,Lunchtime Concert Series
ATTACH;FMTTYPE=image/jpeg:https://cathedral.org.au/wp-content/uploads/2022/04/CA-in-Auer.jpg
ORGANIZER;CN="St Paul's Cathedral":MAILTO:events@stpaulscathedral.org.au
END:VEVENT
BEGIN:VEVENT
DTSTART;TZID=Australia/Melbourne:20220504T130000
DTEND;TZID=Australia/Melbourne:20220504T133000
DTSTAMP:20260420T095508
CREATED:20220412T095444Z
LAST-MODIFIED:20220412T095444Z
UID:25862-1651669200-1651671000@cathedral.org.au
SUMMARY:Gaia | Lunchtime Concert • Timothy Kan (piano)
DESCRIPTION:Melbourne-born pianist Tyler Zhou studies piano with Australian pianist and academic David Soo. Tyler has received many prizes\, including winning the Absolute Award at the Singapore International Music Competition\, and first prize in the Dandenong Ranges Bill Borthwick Music Competition… Read More Lunchtime Concert | Tyler Zhou (piano)
URL:https://cathedral.org.au/event/gaia-lunchtime-concert-timothy-kan-piano/
LOCATION:St Paul’s Cathedral\, Melbourne\, 206 Flinders Street\, Melbourne\, Victoria\, 3000\, Australia
CATEGORIES:Gaia,Lunchtime Concert Series
ATTACH;FMTTYPE=image/jpeg:https://cathedral.org.au/wp-content/uploads/2022/04/Timothy-Kan.jpg
END:VEVENT
BEGIN:VEVENT
DTSTART;TZID=Australia/Melbourne:20220501T160000
DTEND;TZID=Australia/Melbourne:20220619T170000
DTSTAMP:20260420T095508
CREATED:20220412T094141Z
LAST-MODIFIED:20220426T122220Z
UID:25849-1651420800-1655658000@cathedral.org.au
SUMMARY:Gaia | Healing God's Creation Series
DESCRIPTION:Melbourne-born pianist Tyler Zhou studies piano with Australian pianist and academic David Soo. Tyler has received many prizes\, including winning the Absolute Award at the Singapore International Music Competition\, and first prize in the Dandenong Ranges Bill Borthwick Music Competition… Read More Lunchtime Concert | Tyler Zhou (piano)
URL:https://cathedral.org.au/event/gaia-healing-gods-creation-series/
LOCATION:Victoria
CATEGORIES:Gaia,Services
ATTACH;FMTTYPE=image/jpeg:https://cathedral.org.au/wp-content/uploads/2022/03/Gaia-at-Bluedot-2018-5.jpg
END:VEVENT
BEGIN:VEVENT
DTSTART;VALUE=DATE:20220429
DTEND;VALUE=DATE:20220523
DTSTAMP:20260420T095508
CREATED:20220504T062958Z
LAST-MODIFIED:20220504T062958Z
UID:26334-1651190400-1653263999@cathedral.org.au
SUMMARY:Exhibition | PHOTO 2022: H+
DESCRIPTION:Melbourne-born pianist Tyler Zhou studies piano with Australian pianist and academic David Soo. Tyler has received many prizes\, including winning the Absolute Award at the Singapore International Music Competition\, and first prize in the Dandenong Ranges Bill Borthwick Music Competition… Read More Lunchtime Concert | Tyler Zhou (piano)
URL:https://cathedral.org.au/event/exhibition-photo-2022-h/
LOCATION:St Paul’s Cathedral\, Melbourne\, 206 Flinders Street\, Melbourne\, Victoria\, 3000\, Australia
CATEGORIES:Exhibition
ATTACH;FMTTYPE=image/jpeg:https://cathedral.org.au/wp-content/uploads/2022/05/HERO-Matthieu-Gafsou-from-the-series-H-2015-18.-Courtesy-the-artist-and-Galerie-CMAPS..jpg
END:VEVENT
BEGIN:VEVENT
DTSTART;TZID=Australia/Melbourne:20220427T130000
DTEND;TZID=Australia/Melbourne:20220427T130000
DTSTAMP:20260420T095508
CREATED:20220412T095222Z
LAST-MODIFIED:20220412T095222Z
UID:25858-1651064400-1651064400@cathedral.org.au
SUMMARY:Gaia | Lunchtime Concert • Meredith Connie (classical guitar)
DESCRIPTION:Melbourne-born pianist Tyler Zhou studies piano with Australian pianist and academic David Soo. Tyler has received many prizes\, including winning the Absolute Award at the Singapore International Music Competition\, and first prize in the Dandenong Ranges Bill Borthwick Music Competition… Read More Lunchtime Concert | Tyler Zhou (piano)
URL:https://cathedral.org.au/event/gaia-lunchtime-concert-meredith-connie-classical-guitar/
LOCATION:St Paul’s Cathedral\, Melbourne\, 206 Flinders Street\, Melbourne\, Victoria\, 3000\, Australia
CATEGORIES:Gaia,Lunchtime Concert Series
ATTACH;FMTTYPE=image/jpeg:https://cathedral.org.au/wp-content/uploads/2022/04/headshot-2021.jpg
END:VEVENT
BEGIN:VEVENT
DTSTART;TZID=Australia/Melbourne:20220422T163000
DTEND;TZID=Australia/Melbourne:20220422T190000
DTSTAMP:20260420T095508
CREATED:20220321T095023Z
LAST-MODIFIED:20220414T004634Z
UID:25469-1650645000-1650654000@cathedral.org.au
SUMMARY:Gaia | 'Fighting the Climate Emergency' Opening Panel Event
DESCRIPTION:Melbourne-born pianist Tyler Zhou studies piano with Australian pianist and academic David Soo. Tyler has received many prizes\, including winning the Absolute Award at the Singapore International Music Competition\, and first prize in the Dandenong Ranges Bill Borthwick Music Competition… Read More Lunchtime Concert | Tyler Zhou (piano)
URL:https://cathedral.org.au/event/gaia-fighting-the-climate-emergency-opening-panel-event/
LOCATION:St Paul’s Cathedral\, Melbourne\, 206 Flinders Street\, Melbourne\, Victoria\, 3000\, Australia
CATEGORIES:Gaia
ATTACH;FMTTYPE=image/png:https://cathedral.org.au/wp-content/uploads/2022/03/BANNER_OpeningPanelEvent_LR.png
END:VEVENT
BEGIN:VEVENT
DTSTART;VALUE=DATE:20220422
DTEND;VALUE=DATE:20220711
DTSTAMP:20260420T095508
CREATED:20220106T011955Z
LAST-MODIFIED:20220619T045050Z
UID:24216-1650585600-1657497599@cathedral.org.au
SUMMARY:Gaia in Melbourne
DESCRIPTION:Melbourne-born pianist Tyler Zhou studies piano with Australian pianist and academic David Soo. Tyler has received many prizes\, including winning the Absolute Award at the Singapore International Music Competition\, and first prize in the Dandenong Ranges Bill Borthwick Music Competition… Read More Lunchtime Concert | Tyler Zhou (piano)
URL:https://cathedral.org.au/event/gaia-in-melbourne/
LOCATION:St Paul’s Cathedral\, Melbourne\, 206 Flinders Street\, Melbourne\, Victoria\, 3000\, Australia
CATEGORIES:Exhibition
ATTACH;FMTTYPE=image/jpeg:https://cathedral.org.au/wp-content/uploads/2022/04/278852509_2190041924481315_3320680554772622271_n.jpg
ORGANIZER;CN="St Paul's Cathedral":MAILTO:events@stpaulscathedral.org.au
END:VEVENT
BEGIN:VEVENT
DTSTART;TZID=Australia/Melbourne:20220421T193000
DTEND;TZID=Australia/Melbourne:20220421T203000
DTSTAMP:20260420T095508
CREATED:20220329T032526Z
LAST-MODIFIED:20220329T032526Z
UID:25573-1650569400-1650573000@cathedral.org.au
SUMMARY:Concert | Metropolis: The Lost
DESCRIPTION:Melbourne-born pianist Tyler Zhou studies piano with Australian pianist and academic David Soo. Tyler has received many prizes\, including winning the Absolute Award at the Singapore International Music Competition\, and first prize in the Dandenong Ranges Bill Borthwick Music Competition… Read More Lunchtime Concert | Tyler Zhou (piano)
URL:https://cathedral.org.au/event/concert-metropolis-the-lost/
LOCATION:St Paul’s Cathedral\, Melbourne\, 206 Flinders Street\, Melbourne\, Victoria\, 3000\, Australia
CATEGORIES:Concerts & Performances
ATTACH;FMTTYPE=image/jpeg:https://cathedral.org.au/wp-content/uploads/2022/03/2022-MSO-Chorus-Faure-Requeim-1200x800-1.jpeg
END:VEVENT
BEGIN:VEVENT
DTSTART;TZID=Australia/Melbourne:20220417T100000
DTEND;TZID=Australia/Melbourne:20220417T113000
DTSTAMP:20260420T095508
CREATED:20220223T002512Z
LAST-MODIFIED:20220223T002512Z
UID:25015-1650189600-1650195000@cathedral.org.au
SUMMARY:Service | Easter Day Choral Eucharist
DESCRIPTION:Melbourne-born pianist Tyler Zhou studies piano with Australian pianist and academic David Soo. Tyler has received many prizes\, including winning the Absolute Award at the Singapore International Music Competition\, and first prize in the Dandenong Ranges Bill Borthwick Music Competition… Read More Lunchtime Concert | Tyler Zhou (piano)
URL:https://cathedral.org.au/event/service-easter-day-choral-eucharist/
LOCATION:Victoria
CATEGORIES:Holy Week & Easter,Services
ATTACH;FMTTYPE=image/jpeg:https://cathedral.org.au/wp-content/uploads/2021/03/DSC_0097.jpg
END:VEVENT
BEGIN:VEVENT
DTSTART;TZID=Australia/Melbourne:20220417T063000
DTEND;TZID=Australia/Melbourne:20220417T193000
DTSTAMP:20260420T095508
CREATED:20220223T002350Z
LAST-MODIFIED:20220223T002350Z
UID:25013-1650177000-1650223800@cathedral.org.au
SUMMARY:Service | Easter Vigil & Eucharist
DESCRIPTION:Melbourne-born pianist Tyler Zhou studies piano with Australian pianist and academic David Soo. Tyler has received many prizes\, including winning the Absolute Award at the Singapore International Music Competition\, and first prize in the Dandenong Ranges Bill Borthwick Music Competition… Read More Lunchtime Concert | Tyler Zhou (piano)
URL:https://cathedral.org.au/event/service-easter-vigil-eucharist/
LOCATION:Victoria
CATEGORIES:Holy Week & Easter,Services
ATTACH;FMTTYPE=image/jpeg:https://cathedral.org.au/wp-content/uploads/2020/08/ash-2179184_1920-1.jpg
END:VEVENT
BEGIN:VEVENT
DTSTART;TZID=Australia/Melbourne:20220415T133000
DTEND;TZID=Australia/Melbourne:20220415T150000
DTSTAMP:20260420T095508
CREATED:20220223T002215Z
LAST-MODIFIED:20220223T002215Z
UID:25009-1650029400-1650034800@cathedral.org.au
SUMMARY:Service | Stainer’s Crucifixion (Liturgical Performance)
DESCRIPTION:Melbourne-born pianist Tyler Zhou studies piano with Australian pianist and academic David Soo. Tyler has received many prizes\, including winning the Absolute Award at the Singapore International Music Competition\, and first prize in the Dandenong Ranges Bill Borthwick Music Competition… Read More Lunchtime Concert | Tyler Zhou (piano)
URL:https://cathedral.org.au/event/service-stainers-crucifixion-liturgical-performance/
LOCATION:Victoria
CATEGORIES:Holy Week & Easter,Services
ATTACH;FMTTYPE=image/jpeg:https://cathedral.org.au/wp-content/uploads/2016/02/gv12.jpg
END:VEVENT
BEGIN:VEVENT
DTSTART;TZID=Australia/Melbourne:20220415T090000
DTEND;TZID=Australia/Melbourne:20220415T103000
DTSTAMP:20260420T095508
CREATED:20220223T002014Z
LAST-MODIFIED:20220223T002014Z
UID:25006-1650013200-1650018600@cathedral.org.au
SUMMARY:Service | Good Friday Liturgy
DESCRIPTION:Melbourne-born pianist Tyler Zhou studies piano with Australian pianist and academic David Soo. Tyler has received many prizes\, including winning the Absolute Award at the Singapore International Music Competition\, and first prize in the Dandenong Ranges Bill Borthwick Music Competition… Read More Lunchtime Concert | Tyler Zhou (piano)
URL:https://cathedral.org.au/event/service-good-friday-liturgy/
LOCATION:Victoria
CATEGORIES:Holy Week & Easter,Services
ATTACH;FMTTYPE=image/jpeg:https://cathedral.org.au/wp-content/uploads/2019/02/dsc_9624.jpg
END:VEVENT
BEGIN:VEVENT
DTSTART;TZID=Australia/Melbourne:20220414T180000
DTEND;TZID=Australia/Melbourne:20220414T200000
DTSTAMP:20260420T095508
CREATED:20220223T001523Z
LAST-MODIFIED:20220223T001523Z
UID:25003-1649959200-1649966400@cathedral.org.au
SUMMARY:Service | Maundy Thursday Choral Eucharist
DESCRIPTION:Melbourne-born pianist Tyler Zhou studies piano with Australian pianist and academic David Soo. Tyler has received many prizes\, including winning the Absolute Award at the Singapore International Music Competition\, and first prize in the Dandenong Ranges Bill Borthwick Music Competition… Read More Lunchtime Concert | Tyler Zhou (piano)
URL:https://cathedral.org.au/event/service-maundy-thursday-choral-eucharist/
LOCATION:Victoria
CATEGORIES:Holy Week & Easter,Services
ATTACH;FMTTYPE=image/jpeg:https://cathedral.org.au/wp-content/uploads/2016/02/communion.jpg
END:VEVENT
BEGIN:VEVENT
DTSTART;TZID=Australia/Melbourne:20220410T133000
DTEND;TZID=Australia/Melbourne:20220410T160000
DTSTAMP:20260420T095508
CREATED:20220404T005354Z
LAST-MODIFIED:20220404T005354Z
UID:25686-1649597400-1649606400@cathedral.org.au
SUMMARY:Palm Sunday | Walk for Justice for Refugees
DESCRIPTION:Melbourne-born pianist Tyler Zhou studies piano with Australian pianist and academic David Soo. Tyler has received many prizes\, including winning the Absolute Award at the Singapore International Music Competition\, and first prize in the Dandenong Ranges Bill Borthwick Music Competition… Read More Lunchtime Concert | Tyler Zhou (piano)
URL:https://cathedral.org.au/event/palm-sunday-walk-for-justice-for-refugees/
LOCATION:Victoria
ATTACH;FMTTYPE=image/jpeg:https://cathedral.org.au/wp-content/uploads/2022/04/1454884_1119023654809287_5604592992261369094_n.jpg
END:VEVENT
BEGIN:VEVENT
DTSTART;VALUE=DATE:20220410
DTEND;VALUE=DATE:20220411
DTSTAMP:20260420T095508
CREATED:20220223T001156Z
LAST-MODIFIED:20220223T001156Z
UID:24999-1649548800-1649635199@cathedral.org.au
SUMMARY:Services | Palm Sunday
DESCRIPTION:Melbourne-born pianist Tyler Zhou studies piano with Australian pianist and academic David Soo. Tyler has received many prizes\, including winning the Absolute Award at the Singapore International Music Competition\, and first prize in the Dandenong Ranges Bill Borthwick Music Competition… Read More Lunchtime Concert | Tyler Zhou (piano)
URL:https://cathedral.org.au/event/services-palm-sunday/
LOCATION:Victoria
CATEGORIES:Holy Week & Easter,Services
ATTACH;FMTTYPE=image/jpeg:https://cathedral.org.au/wp-content/uploads/2022/02/DSC_5871.jpg
END:VEVENT
BEGIN:VEVENT
DTSTART;TZID=Australia/Melbourne:20220323T130000
DTEND;TZID=Australia/Melbourne:20220323T133000
DTSTAMP:20260420T095508
CREATED:20220306T231324Z
LAST-MODIFIED:20220306T231324Z
UID:25238-1648040400-1648042200@cathedral.org.au
SUMMARY:Concert | Emma Warburton (contralto) and Rhodri Clarke (piano)
DESCRIPTION:Melbourne-born pianist Tyler Zhou studies piano with Australian pianist and academic David Soo. Tyler has received many prizes\, including winning the Absolute Award at the Singapore International Music Competition\, and first prize in the Dandenong Ranges Bill Borthwick Music Competition… Read More Lunchtime Concert | Tyler Zhou (piano)
URL:https://cathedral.org.au/event/concert-emma-warburton-contralto-and-rhodri-clarke-piano/
LOCATION:St Paul’s Cathedral\, Melbourne\, 206 Flinders Street\, Melbourne\, Victoria\, 3000\, Australia
CATEGORIES:Lunchtime Concert Series
ATTACH;FMTTYPE=image/png:https://cathedral.org.au/wp-content/uploads/2022/03/Emma-Warburton-Rhodri-Clarke-Combined-LR.png
END:VEVENT
BEGIN:VEVENT
DTSTART;TZID=Australia/Melbourne:20220320T160000
DTEND;TZID=Australia/Melbourne:20220320T170000
DTSTAMP:20260420T095508
CREATED:20220315T093556Z
LAST-MODIFIED:20220315T093556Z
UID:25374-1647792000-1647795600@cathedral.org.au
SUMMARY:Service | Choral Evensong with Prayers for Peace in Ukraine
DESCRIPTION:Melbourne-born pianist Tyler Zhou studies piano with Australian pianist and academic David Soo. Tyler has received many prizes\, including winning the Absolute Award at the Singapore International Music Competition\, and first prize in the Dandenong Ranges Bill Borthwick Music Competition… Read More Lunchtime Concert | Tyler Zhou (piano)
URL:https://cathedral.org.au/event/service-choral-evensong-with-prayers-for-peace-in-ukraine/
LOCATION:St Paul’s Cathedral\, Melbourne\, 206 Flinders Street\, Melbourne\, Victoria\, 3000\, Australia
CATEGORIES:Services
ATTACH;FMTTYPE=image/jpeg:https://cathedral.org.au/wp-content/uploads/2022/03/20220308-110147UkraineCandle.jpeg
END:VEVENT
BEGIN:VEVENT
DTSTART;TZID=Australia/Melbourne:20220316T130000
DTEND;TZID=Australia/Melbourne:20220316T133000
DTSTAMP:20260420T095508
CREATED:20220306T231006Z
LAST-MODIFIED:20220306T231006Z
UID:25234-1647435600-1647437400@cathedral.org.au
SUMMARY:Concert | Callum Close (organ)
DESCRIPTION:Melbourne-born pianist Tyler Zhou studies piano with Australian pianist and academic David Soo. Tyler has received many prizes\, including winning the Absolute Award at the Singapore International Music Competition\, and first prize in the Dandenong Ranges Bill Borthwick Music Competition… Read More Lunchtime Concert | Tyler Zhou (piano)
URL:https://cathedral.org.au/event/concert-callum-close-organ/
LOCATION:St Paul’s Cathedral\, Melbourne\, 206 Flinders Street\, Melbourne\, Victoria\, 3000\, Australia
CATEGORIES:Lunchtime Concert Series
ATTACH;FMTTYPE=image/jpeg:https://cathedral.org.au/wp-content/uploads/2022/03/Callum-Close.jpg
END:VEVENT
BEGIN:VEVENT
DTSTART;TZID=Australia/Melbourne:20220309T130000
DTEND;TZID=Australia/Melbourne:20220309T133000
DTSTAMP:20260420T095508
CREATED:20220306T230840Z
LAST-MODIFIED:20220306T230840Z
UID:25230-1646830800-1646832600@cathedral.org.au
SUMMARY:Concert | Elissa Goodrich (vibraphone/bowed flexatone)
DESCRIPTION:Melbourne-born pianist Tyler Zhou studies piano with Australian pianist and academic David Soo. Tyler has received many prizes\, including winning the Absolute Award at the Singapore International Music Competition\, and first prize in the Dandenong Ranges Bill Borthwick Music Competition… Read More Lunchtime Concert | Tyler Zhou (piano)
URL:https://cathedral.org.au/event/concert-elissa-goodrich-vibraphone-bowed-flexatone/
LOCATION:St Paul’s Cathedral\, Melbourne\, 206 Flinders Street\, Melbourne\, Victoria\, 3000\, Australia
CATEGORIES:Lunchtime Concert Series
ATTACH;FMTTYPE=image/jpeg:https://cathedral.org.au/wp-content/uploads/2022/03/Elissa_Goodrich_Photo_by_Simone_Tyrrell.jpg
END:VEVENT
BEGIN:VEVENT
DTSTART;VALUE=DATE:20220306
DTEND;VALUE=DATE:20220404
DTSTAMP:20260420T095508
CREATED:20220302T224006Z
LAST-MODIFIED:20220302T224733Z
UID:25167-1646524800-1649030399@cathedral.org.au
SUMMARY:Lent Course | Living A Life Of Discipleship
DESCRIPTION:Melbourne-born pianist Tyler Zhou studies piano with Australian pianist and academic David Soo. Tyler has received many prizes\, including winning the Absolute Award at the Singapore International Music Competition\, and first prize in the Dandenong Ranges Bill Borthwick Music Competition… Read More Lunchtime Concert | Tyler Zhou (piano)
URL:https://cathedral.org.au/event/lent-course-living-a-life-of-discipleship/
LOCATION:St Paul’s Cathedral\, Melbourne\, 206 Flinders Street\, Melbourne\, Victoria\, 3000\, Australia
CATEGORIES:Lent
ATTACH;FMTTYPE=image/jpeg:https://cathedral.org.au/wp-content/uploads/2022/03/seedling-gc02641263_1920.jpg
END:VEVENT
END:VCALENDAR