BEGIN:VCALENDAR
VERSION:2.0
PRODID:-//St Paul&#039;s Cathedral Melbourne - ECPv6.15.20//NONSGML v1.0//EN
CALSCALE:GREGORIAN
METHOD:PUBLISH
X-WR-CALNAME:St Paul&#039;s Cathedral Melbourne
X-ORIGINAL-URL:https://cathedral.org.au
X-WR-CALDESC:Events for St Paul&#039;s Cathedral Melbourne
REFRESH-INTERVAL;VALUE=DURATION:PT1H
X-Robots-Tag:noindex
X-PUBLISHED-TTL:PT1H
BEGIN:VTIMEZONE
TZID:Australia/Melbourne
BEGIN:STANDARD
TZOFFSETFROM:+1100
TZOFFSETTO:+1000
TZNAME:AEST
DTSTART:20220402T160000
END:STANDARD
BEGIN:DAYLIGHT
TZOFFSETFROM:+1000
TZOFFSETTO:+1100
TZNAME:AEDT
DTSTART:20221001T160000
END:DAYLIGHT
BEGIN:STANDARD
TZOFFSETFROM:+1100
TZOFFSETTO:+1000
TZNAME:AEST
DTSTART:20230401T160000
END:STANDARD
BEGIN:DAYLIGHT
TZOFFSETFROM:+1000
TZOFFSETTO:+1100
TZNAME:AEDT
DTSTART:20230930T160000
END:DAYLIGHT
BEGIN:STANDARD
TZOFFSETFROM:+1100
TZOFFSETTO:+1000
TZNAME:AEST
DTSTART:20240406T160000
END:STANDARD
BEGIN:DAYLIGHT
TZOFFSETFROM:+1000
TZOFFSETTO:+1100
TZNAME:AEDT
DTSTART:20241005T160000
END:DAYLIGHT
END:VTIMEZONE
BEGIN:VEVENT
DTSTART;TZID=Australia/Melbourne:20230503T130000
DTEND;TZID=Australia/Melbourne:20230503T133000
DTSTAMP:20260422T184354
CREATED:20230428T023351Z
LAST-MODIFIED:20230428T023354Z
UID:36279-1683118800-1683120600@cathedral.org.au
SUMMARY:Concert | Antoni Grzyb (Piano)
DESCRIPTION:Julia Rozenkova is 14 years old and has studied piano since she was 3. She has earned numerous awards in local and international competitions\, one of them leading to her performing in Carnegie Hall\, New York\, at the age of… Read More Concert | Julia Rozenkova (piano)
URL:https://cathedral.org.au/event/concert-antoni-grzyb-piano/
LOCATION:St Paul’s Cathedral\, Melbourne\, 206 Flinders Street\, Melbourne\, Victoria\, 3000\, Australia
ATTACH;FMTTYPE=image/jpeg:https://cathedral.org.au/wp-content/uploads/2023/04/Antoni-Gryzb.jpg
ORGANIZER;CN="St Paul's Cathedral":MAILTO:events@stpaulscathedral.org.au
END:VEVENT
BEGIN:VEVENT
DTSTART;TZID=Australia/Melbourne:20230507T160000
DTEND;TZID=Australia/Melbourne:20230507T170000
DTSTAMP:20260422T184354
CREATED:20230418T003655Z
LAST-MODIFIED:20230505T065635Z
UID:36214-1683475200-1683478800@cathedral.org.au
SUMMARY:Service | Choral Evensong marking the Coronation of King Charles III
DESCRIPTION:Julia Rozenkova is 14 years old and has studied piano since she was 3. She has earned numerous awards in local and international competitions\, one of them leading to her performing in Carnegie Hall\, New York\, at the age of… Read More Concert | Julia Rozenkova (piano)
URL:https://cathedral.org.au/event/service-choral-evensong-marking-the-coronation-of-king-charles-iii/
LOCATION:St Paul’s Cathedral\, Melbourne\, 206 Flinders Street\, Melbourne\, Victoria\, 3000\, Australia
CATEGORIES:Services
ATTACH;FMTTYPE=image/jpeg:https://cathedral.org.au/wp-content/uploads/2023/04/Offical-Portrait-Landscape.jpg
ORGANIZER;CN="St Paul's Cathedral":MAILTO:events@stpaulscathedral.org.au
END:VEVENT
BEGIN:VEVENT
DTSTART;TZID=Australia/Melbourne:20230514T180000
DTEND;TZID=Australia/Melbourne:20230514T190000
DTSTAMP:20260422T184354
CREATED:20230428T005848Z
LAST-MODIFIED:20230428T005852Z
UID:36267-1684087200-1684090800@cathedral.org.au
SUMMARY:ALPHA
DESCRIPTION:Julia Rozenkova is 14 years old and has studied piano since she was 3. She has earned numerous awards in local and international competitions\, one of them leading to her performing in Carnegie Hall\, New York\, at the age of… Read More Concert | Julia Rozenkova (piano)
URL:https://cathedral.org.au/event/alpha/
LOCATION:St Paul’s Cathedral\, Melbourne\, 206 Flinders Street\, Melbourne\, Victoria\, 3000\, Australia
ATTACH;FMTTYPE=image/jpeg:https://cathedral.org.au/wp-content/uploads/2018/05/bibleopen.jpg
ORGANIZER;CN="St Paul's Cathedral":MAILTO:events@stpaulscathedral.org.au
END:VEVENT
BEGIN:VEVENT
DTSTART;TZID=Australia/Melbourne:20230605T140000
DTEND;TZID=Australia/Melbourne:20230605T150000
DTSTAMP:20260422T184354
CREATED:20230602T063929Z
LAST-MODIFIED:20230605T010209Z
UID:36505-1685973600-1685977200@cathedral.org.au
SUMMARY:Memorial for Rosemary Crossley
DESCRIPTION:Julia Rozenkova is 14 years old and has studied piano since she was 3. She has earned numerous awards in local and international competitions\, one of them leading to her performing in Carnegie Hall\, New York\, at the age of… Read More Concert | Julia Rozenkova (piano)
URL:https://cathedral.org.au/event/memorial-for-rosemary-crossley/
LOCATION:St Paul’s Cathedral\, Melbourne\, 206 Flinders Street\, Melbourne\, Victoria\, 3000\, Australia
ORGANIZER;CN="St Paul's Cathedral":MAILTO:events@stpaulscathedral.org.au
END:VEVENT
BEGIN:VEVENT
DTSTART;TZID=Australia/Melbourne:20230607T010000
DTEND;TZID=Australia/Melbourne:20230607T013000
DTSTAMP:20260422T184354
CREATED:20230601T032631Z
LAST-MODIFIED:20230601T032706Z
UID:36432-1686099600-1686101400@cathedral.org.au
SUMMARY:Concert | Royal Australian Navy Band Brass Quintet
DESCRIPTION:Julia Rozenkova is 14 years old and has studied piano since she was 3. She has earned numerous awards in local and international competitions\, one of them leading to her performing in Carnegie Hall\, New York\, at the age of… Read More Concert | Julia Rozenkova (piano)
URL:https://cathedral.org.au/event/concert-royal-australian-navy-band-brass-quintet/
LOCATION:St Paul’s Cathedral\, Melbourne\, 206 Flinders Street\, Melbourne\, Victoria\, 3000\, Australia
CATEGORIES:Lunchtime Concert Series
ORGANIZER;CN="St Paul's Cathedral":MAILTO:events@stpaulscathedral.org.au
END:VEVENT
BEGIN:VEVENT
DTSTART;TZID=Australia/Melbourne:20230607T180000
DTEND;TZID=Australia/Melbourne:20230618T233000
DTSTAMP:20260422T184354
CREATED:20230601T055217Z
LAST-MODIFIED:20230601T055331Z
UID:36478-1686160800-1687131000@cathedral.org.au
SUMMARY:Rising Festival
DESCRIPTION:Julia Rozenkova is 14 years old and has studied piano since she was 3. She has earned numerous awards in local and international competitions\, one of them leading to her performing in Carnegie Hall\, New York\, at the age of… Read More Concert | Julia Rozenkova (piano)
URL:https://cathedral.org.au/event/rising-festival/
LOCATION:St Paul’s Cathedral\, Melbourne\, 206 Flinders Street\, Melbourne\, Victoria\, 3000\, Australia
CATEGORIES:Concerts & Performances
ATTACH;FMTTYPE=image/jpeg:https://cathedral.org.au/wp-content/uploads/2023/06/Rising.jpeg
ORGANIZER;CN="Rising":MAILTO:ticketing@rising.melbourne
END:VEVENT
BEGIN:VEVENT
DTSTART;TZID=Australia/Melbourne:20230614T130000
DTEND;TZID=Australia/Melbourne:20230614T133000
DTSTAMP:20260422T184354
CREATED:20230601T032846Z
LAST-MODIFIED:20230607T050049Z
UID:36436-1686747600-1686749400@cathedral.org.au
SUMMARY:Concert | Connie Chamber Collective
DESCRIPTION:Julia Rozenkova is 14 years old and has studied piano since she was 3. She has earned numerous awards in local and international competitions\, one of them leading to her performing in Carnegie Hall\, New York\, at the age of… Read More Concert | Julia Rozenkova (piano)
URL:https://cathedral.org.au/event/concert-bunyip-guitar-quartet/
LOCATION:St Paul’s Cathedral\, Melbourne\, 206 Flinders Street\, Melbourne\, Victoria\, 3000\, Australia
CATEGORIES:Lunchtime Concert Series
ORGANIZER;CN="St Paul's Cathedral":MAILTO:events@stpaulscathedral.org.au
END:VEVENT
BEGIN:VEVENT
DTSTART;TZID=Australia/Melbourne:20230621T010000
DTEND;TZID=Australia/Melbourne:20230621T013000
DTSTAMP:20260422T184354
CREATED:20230601T034917Z
LAST-MODIFIED:20230601T034921Z
UID:36441-1687309200-1687311000@cathedral.org.au
SUMMARY:Concert | Dillon Chan (piano)
DESCRIPTION:Julia Rozenkova is 14 years old and has studied piano since she was 3. She has earned numerous awards in local and international competitions\, one of them leading to her performing in Carnegie Hall\, New York\, at the age of… Read More Concert | Julia Rozenkova (piano)
URL:https://cathedral.org.au/event/concert-dillon-chan-piano/
LOCATION:St Paul’s Cathedral\, Melbourne\, 206 Flinders Street\, Melbourne\, Victoria\, 3000\, Australia
CATEGORIES:Lunchtime Concert Series
ORGANIZER;CN="St Paul's Cathedral":MAILTO:events@stpaulscathedral.org.au
END:VEVENT
BEGIN:VEVENT
DTSTART;TZID=Australia/Melbourne:20230628T130000
DTEND;TZID=Australia/Melbourne:20230628T133000
DTSTAMP:20260422T184354
CREATED:20230601T035034Z
LAST-MODIFIED:20230601T035038Z
UID:36444-1687957200-1687959000@cathedral.org.au
SUMMARY:Concert |Rollin Zhao (violin) and Chai Jie Low (piano)
DESCRIPTION:Julia Rozenkova is 14 years old and has studied piano since she was 3. She has earned numerous awards in local and international competitions\, one of them leading to her performing in Carnegie Hall\, New York\, at the age of… Read More Concert | Julia Rozenkova (piano)
URL:https://cathedral.org.au/event/concert-rollin-zhao-violin-and-chai-jie-low-piano/
LOCATION:St Paul’s Cathedral\, Melbourne\, 206 Flinders Street\, Melbourne\, Victoria\, 3000\, Australia
CATEGORIES:Lunchtime Concert Series
ORGANIZER;CN="St Paul's Cathedral":MAILTO:events@stpaulscathedral.org.au
END:VEVENT
BEGIN:VEVENT
DTSTART;TZID=Australia/Melbourne:20230705T010000
DTEND;TZID=Australia/Melbourne:20230705T013000
DTSTAMP:20260422T184354
CREATED:20230629T021940Z
LAST-MODIFIED:20230629T021943Z
UID:36639-1688518800-1688520600@cathedral.org.au
SUMMARY:Concert | Arwen Hur (Organ)
DESCRIPTION:Julia Rozenkova is 14 years old and has studied piano since she was 3. She has earned numerous awards in local and international competitions\, one of them leading to her performing in Carnegie Hall\, New York\, at the age of… Read More Concert | Julia Rozenkova (piano)
URL:https://cathedral.org.au/event/concert-arwen-hur-organ-2/
LOCATION:St Paul’s Cathedral\, Melbourne\, 206 Flinders Street\, Melbourne\, Victoria\, 3000\, Australia
ORGANIZER;CN="St Paul's Cathedral":MAILTO:events@stpaulscathedral.org.au
END:VEVENT
BEGIN:VEVENT
DTSTART;TZID=Australia/Melbourne:20230712T130000
DTEND;TZID=Australia/Melbourne:20230712T133000
DTSTAMP:20260422T184354
CREATED:20230629T022100Z
LAST-MODIFIED:20230711T024823Z
UID:36643-1689166800-1689168600@cathedral.org.au
SUMMARY:Concert | Haoqing Leo Liu (piano) Concert |
DESCRIPTION:Julia Rozenkova is 14 years old and has studied piano since she was 3. She has earned numerous awards in local and international competitions\, one of them leading to her performing in Carnegie Hall\, New York\, at the age of… Read More Concert | Julia Rozenkova (piano)
URL:https://cathedral.org.au/event/concert-haoqing-leo-liu-piano-concert/
LOCATION:St Paul’s Cathedral\, Melbourne\, 206 Flinders Street\, Melbourne\, Victoria\, 3000\, Australia
ORGANIZER;CN="St Paul's Cathedral":MAILTO:events@stpaulscathedral.org.au
END:VEVENT
BEGIN:VEVENT
DTSTART;TZID=Australia/Melbourne:20230719T130000
DTEND;TZID=Australia/Melbourne:20230719T133000
DTSTAMP:20260422T184354
CREATED:20230629T022218Z
LAST-MODIFIED:20230711T050140Z
UID:36645-1689771600-1689773400@cathedral.org.au
SUMMARY:Concert | 19 July: Barry Fry (baritone) and Bruce Macrae (piano)
DESCRIPTION:Julia Rozenkova is 14 years old and has studied piano since she was 3. She has earned numerous awards in local and international competitions\, one of them leading to her performing in Carnegie Hall\, New York\, at the age of… Read More Concert | Julia Rozenkova (piano)
URL:https://cathedral.org.au/event/concert-19-july-barry-fry-baritone-and-bruce-macrae-piano/
LOCATION:St Paul’s Cathedral\, Melbourne\, 206 Flinders Street\, Melbourne\, Victoria\, 3000\, Australia
ORGANIZER;CN="St Paul's Cathedral":MAILTO:events@stpaulscathedral.org.au
END:VEVENT
BEGIN:VEVENT
DTSTART;TZID=Australia/Melbourne:20230726T130000
DTEND;TZID=Australia/Melbourne:20230726T133000
DTSTAMP:20260422T184354
CREATED:20230629T022524Z
LAST-MODIFIED:20230629T022527Z
UID:36649-1690376400-1690378200@cathedral.org.au
SUMMARY:Concert | Paul Glass (Piano)
DESCRIPTION:Julia Rozenkova is 14 years old and has studied piano since she was 3. She has earned numerous awards in local and international competitions\, one of them leading to her performing in Carnegie Hall\, New York\, at the age of… Read More Concert | Julia Rozenkova (piano)
URL:https://cathedral.org.au/event/concert-paul-glass-piano/
LOCATION:St Paul’s Cathedral\, Melbourne\, 206 Flinders Street\, Melbourne\, Victoria\, 3000\, Australia
ORGANIZER;CN="St Paul's Cathedral":MAILTO:events@stpaulscathedral.org.au
END:VEVENT
BEGIN:VEVENT
DTSTART;TZID=Australia/Melbourne:20230806T100000
DTEND;TZID=Australia/Melbourne:20230806T110000
DTSTAMP:20260422T184354
CREATED:20230710T001824Z
LAST-MODIFIED:20230710T034224Z
UID:36764-1691316000-1691319600@cathedral.org.au
SUMMARY:Service | 10am Choral Eucharist marking Hiroshima Peace Day
DESCRIPTION:Julia Rozenkova is 14 years old and has studied piano since she was 3. She has earned numerous awards in local and international competitions\, one of them leading to her performing in Carnegie Hall\, New York\, at the age of… Read More Concert | Julia Rozenkova (piano)
URL:https://cathedral.org.au/event/service-10am-choral-eucharist-marking-hiroshima-peace-day/
LOCATION:St Paul’s Cathedral\, Melbourne\, 206 Flinders Street\, Melbourne\, Victoria\, 3000\, Australia
ORGANIZER;CN="St Paul's Cathedral":MAILTO:events@stpaulscathedral.org.au
END:VEVENT
BEGIN:VEVENT
DTSTART;TZID=Australia/Melbourne:20230806T170000
DTEND;TZID=Australia/Melbourne:20230806T180000
DTSTAMP:20260422T184354
CREATED:20230728T021349Z
LAST-MODIFIED:20230728T021353Z
UID:36878-1691341200-1691344800@cathedral.org.au
SUMMARY:Book Launch | Grey Spaces
DESCRIPTION:Julia Rozenkova is 14 years old and has studied piano since she was 3. She has earned numerous awards in local and international competitions\, one of them leading to her performing in Carnegie Hall\, New York\, at the age of… Read More Concert | Julia Rozenkova (piano)
URL:https://cathedral.org.au/event/book-launch-grey-spaces/
LOCATION:St Paul’s Cathedral\, Melbourne\, 206 Flinders Street\, Melbourne\, Victoria\, 3000\, Australia
CATEGORIES:Education & Learning
ATTACH;FMTTYPE=image/jpeg:https://cathedral.org.au/wp-content/uploads/2023/07/Grey-Spaces-Cover.jpg
ORGANIZER;CN="St Paul's Cathedral":MAILTO:events@stpaulscathedral.org.au
END:VEVENT
BEGIN:VEVENT
DTSTART;TZID=Australia/Melbourne:20230809T130000
DTEND;TZID=Australia/Melbourne:20230809T133000
DTSTAMP:20260422T184354
CREATED:20230803T234706Z
LAST-MODIFIED:20230803T234710Z
UID:36954-1691586000-1691587800@cathedral.org.au
SUMMARY:Lunchtime Concert | Timothy Kan (piano)
DESCRIPTION:Julia Rozenkova is 14 years old and has studied piano since she was 3. She has earned numerous awards in local and international competitions\, one of them leading to her performing in Carnegie Hall\, New York\, at the age of… Read More Concert | Julia Rozenkova (piano)
URL:https://cathedral.org.au/event/lunchtime-concert-timothy-kan-piano/
LOCATION:St Paul’s Cathedral\, Melbourne\, 206 Flinders Street\, Melbourne\, Victoria\, 3000\, Australia
CATEGORIES:Lunchtime Concert Series
ATTACH;FMTTYPE=image/jpeg:https://cathedral.org.au/wp-content/uploads/2023/08/Timothy-Kan.jpg
ORGANIZER;CN="St Paul's Cathedral":MAILTO:events@stpaulscathedral.org.au
END:VEVENT
BEGIN:VEVENT
DTSTART;TZID=Australia/Melbourne:20230816T130000
DTEND;TZID=Australia/Melbourne:20230816T133000
DTSTAMP:20260422T184354
CREATED:20230803T234900Z
LAST-MODIFIED:20230803T234904Z
UID:36959-1692190800-1692192600@cathedral.org.au
SUMMARY:Lunchtime Concert | Charlie Wu (piano)
DESCRIPTION:Julia Rozenkova is 14 years old and has studied piano since she was 3. She has earned numerous awards in local and international competitions\, one of them leading to her performing in Carnegie Hall\, New York\, at the age of… Read More Concert | Julia Rozenkova (piano)
URL:https://cathedral.org.au/event/lunchtime-concert-charlie-wu-piano/
LOCATION:St Paul’s Cathedral\, Melbourne\, 206 Flinders Street\, Melbourne\, Victoria\, 3000\, Australia
CATEGORIES:Lunchtime Concert Series
ORGANIZER;CN="St Paul's Cathedral":MAILTO:events@stpaulscathedral.org.au
END:VEVENT
BEGIN:VEVENT
DTSTART;TZID=Australia/Melbourne:20230823T130000
DTEND;TZID=Australia/Melbourne:20230823T133000
DTSTAMP:20260422T184354
CREATED:20230803T235915Z
LAST-MODIFIED:20230803T235919Z
UID:36962-1692795600-1692797400@cathedral.org.au
SUMMARY:Lunchtime Concert | Lowther Hall Anglican Grammar School VCE Music Students
DESCRIPTION:Julia Rozenkova is 14 years old and has studied piano since she was 3. She has earned numerous awards in local and international competitions\, one of them leading to her performing in Carnegie Hall\, New York\, at the age of… Read More Concert | Julia Rozenkova (piano)
URL:https://cathedral.org.au/event/lunchtime-concert-lowther-hall-anglican-grammar-school-vce-music-students/
LOCATION:St Paul’s Cathedral\, Melbourne\, 206 Flinders Street\, Melbourne\, Victoria\, 3000\, Australia
CATEGORIES:Lunchtime Concert Series
ATTACH;FMTTYPE=image/jpeg:https://cathedral.org.au/wp-content/uploads/2023/08/Lowther-Hall-Music-Students-2023.jpg
ORGANIZER;CN="St Paul's Cathedral":MAILTO:events@stpaulscathedral.org.au
END:VEVENT
BEGIN:VEVENT
DTSTART;TZID=Australia/Melbourne:20230825T140000
DTEND;TZID=Australia/Melbourne:20230825T160000
DTSTAMP:20260422T184354
CREATED:20230817T015348Z
LAST-MODIFIED:20230817T015354Z
UID:37108-1692972000-1692979200@cathedral.org.au
SUMMARY:Seniors Group | Indigenous Transition School: Creating Education Opportunities for Indigenous Students
DESCRIPTION:Julia Rozenkova is 14 years old and has studied piano since she was 3. She has earned numerous awards in local and international competitions\, one of them leading to her performing in Carnegie Hall\, New York\, at the age of… Read More Concert | Julia Rozenkova (piano)
URL:https://cathedral.org.au/event/seniors-group-indigenous-transition-school-creating-education-opportunities-for-indigenous-students/
LOCATION:St Paul’s Cathedral\, Melbourne\, 206 Flinders Street\, Melbourne\, Victoria\, 3000\, Australia
CATEGORIES:Education & Learning
ATTACH;FMTTYPE=image/jpeg:https://cathedral.org.au/wp-content/uploads/2020/12/IMG_0380.jpeg
ORGANIZER;CN="St Paul's Cathedral":MAILTO:events@stpaulscathedral.org.au
END:VEVENT
BEGIN:VEVENT
DTSTART;TZID=Australia/Melbourne:20230830T130000
DTEND;TZID=Australia/Melbourne:20230830T133000
DTSTAMP:20260422T184354
CREATED:20230804T000243Z
LAST-MODIFIED:20230804T000247Z
UID:36966-1693400400-1693402200@cathedral.org.au
SUMMARY:Lunchtime Concert | Alessandra Garosi (piano) and Adam Simmons (saxaphone\, clarinets\, shakuhachi)
DESCRIPTION:Julia Rozenkova is 14 years old and has studied piano since she was 3. She has earned numerous awards in local and international competitions\, one of them leading to her performing in Carnegie Hall\, New York\, at the age of… Read More Concert | Julia Rozenkova (piano)
URL:https://cathedral.org.au/event/lunchtime-concert-alessandra-garosi-piano-and-adam-simmons-saxaphone-clarinets-shakuhachi/
LOCATION:St Paul’s Cathedral\, Melbourne\, 206 Flinders Street\, Melbourne\, Victoria\, 3000\, Australia
CATEGORIES:Lunchtime Concert Series
ATTACH;FMTTYPE=image/jpeg:https://cathedral.org.au/wp-content/uploads/2023/08/Alessandra-Garosi-and-Adam-Simmons.jpg
ORGANIZER;CN="St Paul's Cathedral":MAILTO:events@stpaulscathedral.org.au
END:VEVENT
BEGIN:VEVENT
DTSTART;TZID=Australia/Melbourne:20230901T013000
DTEND;TZID=Australia/Melbourne:20230901T140000
DTSTAMP:20260422T184354
CREATED:20230816T064814Z
LAST-MODIFIED:20230816T064816Z
UID:37101-1693531800-1693576800@cathedral.org.au
SUMMARY:Concert | Tenom BCCM Youth Choir
DESCRIPTION:Julia Rozenkova is 14 years old and has studied piano since she was 3. She has earned numerous awards in local and international competitions\, one of them leading to her performing in Carnegie Hall\, New York\, at the age of… Read More Concert | Julia Rozenkova (piano)
URL:https://cathedral.org.au/event/concert-tenom-bccm-youth-choir/
LOCATION:St Paul’s Cathedral\, Melbourne\, 206 Flinders Street\, Melbourne\, Victoria\, 3000\, Australia
ORGANIZER;CN="St Paul's Cathedral":MAILTO:events@stpaulscathedral.org.au
END:VEVENT
BEGIN:VEVENT
DTSTART;TZID=Australia/Melbourne:20230906T130000
DTEND;TZID=Australia/Melbourne:20230906T133000
DTSTAMP:20260422T184354
CREATED:20230830T020313Z
LAST-MODIFIED:20230830T020315Z
UID:37213-1694005200-1694007000@cathedral.org.au
SUMMARY:Lunchtime Concert | Anna Gao (piano)
DESCRIPTION:Julia Rozenkova is 14 years old and has studied piano since she was 3. She has earned numerous awards in local and international competitions\, one of them leading to her performing in Carnegie Hall\, New York\, at the age of… Read More Concert | Julia Rozenkova (piano)
URL:https://cathedral.org.au/event/lunchtime-concert-anna-gao-piano/
LOCATION:St Paul’s Cathedral\, Melbourne\, 206 Flinders Street\, Melbourne\, Victoria\, 3000\, Australia
CATEGORIES:Lunchtime Concert Series
ATTACH;FMTTYPE=image/jpeg:https://cathedral.org.au/wp-content/uploads/2023/08/Anna-Gao.jpg
ORGANIZER;CN="St Paul's Cathedral":MAILTO:events@stpaulscathedral.org.au
END:VEVENT
BEGIN:VEVENT
DTSTART;TZID=Australia/Melbourne:20230913T130000
DTEND;TZID=Australia/Melbourne:20230913T133000
DTSTAMP:20260422T184354
CREATED:20230830T020627Z
LAST-MODIFIED:20230830T020728Z
UID:37219-1694610000-1694611800@cathedral.org.au
SUMMARY:Lunchtime Concert | Brienne Gawler (oboe) and Nathan Glenn (piano/composer) 
DESCRIPTION:Julia Rozenkova is 14 years old and has studied piano since she was 3. She has earned numerous awards in local and international competitions\, one of them leading to her performing in Carnegie Hall\, New York\, at the age of… Read More Concert | Julia Rozenkova (piano)
URL:https://cathedral.org.au/event/lunchtime-concert-brienne-gawler-oboe-and-nathan-glenn-piano-composer/
LOCATION:St Paul’s Cathedral\, Melbourne\, 206 Flinders Street\, Melbourne\, Victoria\, 3000\, Australia
CATEGORIES:Lunchtime Concert Series
ATTACH;FMTTYPE=image/jpeg:https://cathedral.org.au/wp-content/uploads/2023/08/Brienne-Gawler-and-Nathan-Glenn.jpg
ORGANIZER;CN="St Paul's Cathedral":MAILTO:events@stpaulscathedral.org.au
END:VEVENT
BEGIN:VEVENT
DTSTART;TZID=Australia/Melbourne:20230915T080000
DTEND;TZID=Australia/Melbourne:20230917T170000
DTSTAMP:20260422T184354
CREATED:20230816T043056Z
LAST-MODIFIED:20230816T043913Z
UID:37094-1694764800-1694970000@cathedral.org.au
SUMMARY:¡TONE UP! Choral Course
DESCRIPTION:Julia Rozenkova is 14 years old and has studied piano since she was 3. She has earned numerous awards in local and international competitions\, one of them leading to her performing in Carnegie Hall\, New York\, at the age of… Read More Concert | Julia Rozenkova (piano)
URL:https://cathedral.org.au/event/tone-up-choral-course/
LOCATION:St Paul’s Cathedral\, Melbourne\, 206 Flinders Street\, Melbourne\, Victoria\, 3000\, Australia
ATTACH;FMTTYPE=image/jpeg:https://cathedral.org.au/wp-content/uploads/2023/08/73840183-51374913.jpg
END:VEVENT
BEGIN:VEVENT
DTSTART;TZID=Australia/Melbourne:20230920T130000
DTEND;TZID=Australia/Melbourne:20230920T133000
DTSTAMP:20260422T184354
CREATED:20230830T020936Z
LAST-MODIFIED:20230830T021332Z
UID:37227-1695214800-1695216600@cathedral.org.au
SUMMARY:Lunchtime Concert | Emma Warburton (contralto) and Antony Pitts (piano/composer) 
DESCRIPTION:Julia Rozenkova is 14 years old and has studied piano since she was 3. She has earned numerous awards in local and international competitions\, one of them leading to her performing in Carnegie Hall\, New York\, at the age of… Read More Concert | Julia Rozenkova (piano)
URL:https://cathedral.org.au/event/lunchtime-concert-emma-warburton-contralto-and-antony-pitts-piano-composer/
LOCATION:St Paul’s Cathedral\, Melbourne\, 206 Flinders Street\, Melbourne\, Victoria\, 3000\, Australia
CATEGORIES:Lunchtime Concert Series
ATTACH;FMTTYPE=image/jpeg:https://cathedral.org.au/wp-content/uploads/2023/08/Emma-Warburton-and-Antony-Pitts.jpg
ORGANIZER;CN="St Paul's Cathedral":MAILTO:events@stpaulscathedral.org.au
END:VEVENT
BEGIN:VEVENT
DTSTART;TZID=Australia/Melbourne:20230927T130000
DTEND;TZID=Australia/Melbourne:20230927T133000
DTSTAMP:20260422T184354
CREATED:20230830T021102Z
LAST-MODIFIED:20230830T021117Z
UID:37230-1695819600-1695821400@cathedral.org.au
SUMMARY:Lunchtime Concert | Hamish Gould (countertenor) and Jenny Lu (piano)
DESCRIPTION:Julia Rozenkova is 14 years old and has studied piano since she was 3. She has earned numerous awards in local and international competitions\, one of them leading to her performing in Carnegie Hall\, New York\, at the age of… Read More Concert | Julia Rozenkova (piano)
URL:https://cathedral.org.au/event/lunchtime-concert-hamish-gould-countertenor-and-jenny-lu-piano-lunchtime-concert/
LOCATION:St Paul’s Cathedral\, Melbourne\, 206 Flinders Street\, Melbourne\, Victoria\, 3000\, Australia
CATEGORIES:Lunchtime Concert Series
ATTACH;FMTTYPE=image/jpeg:https://cathedral.org.au/wp-content/uploads/2023/08/Hamish-Gould-and-Jenny-Lu.jpg
ORGANIZER;CN="St Paul's Cathedral":MAILTO:events@stpaulscathedral.org.au
END:VEVENT
BEGIN:VEVENT
DTSTART;TZID=Australia/Melbourne:20231108T130000
DTEND;TZID=Australia/Melbourne:20231108T133000
DTSTAMP:20260422T184354
CREATED:20231102T004135Z
LAST-MODIFIED:20231102T004137Z
UID:37733-1699448400-1699450200@cathedral.org.au
SUMMARY:Concert | Roslyn Carolane (organ)
DESCRIPTION:Julia Rozenkova is 14 years old and has studied piano since she was 3. She has earned numerous awards in local and international competitions\, one of them leading to her performing in Carnegie Hall\, New York\, at the age of… Read More Concert | Julia Rozenkova (piano)
URL:https://cathedral.org.au/event/concert-roslyn-carolane-organ-3/
LOCATION:St Paul’s Cathedral\, Melbourne\, 206 Flinders Street\, Melbourne\, Victoria\, 3000\, Australia
CATEGORIES:Lunchtime Concert Series
ATTACH;FMTTYPE=image/jpeg:https://cathedral.org.au/wp-content/uploads/2023/11/395617853_800654571863033_8747366828119776925_n.jpg
ORGANIZER;CN="St Paul's Cathedral":MAILTO:events@stpaulscathedral.org.au
END:VEVENT
BEGIN:VEVENT
DTSTART;TZID=Australia/Melbourne:20231115T130000
DTEND;TZID=Australia/Melbourne:20231115T133000
DTSTAMP:20260422T184354
CREATED:20231102T004509Z
LAST-MODIFIED:20231102T004907Z
UID:37739-1700053200-1700055000@cathedral.org.au
SUMMARY:Concert | Lee Jones (jazz guitar)
DESCRIPTION:Julia Rozenkova is 14 years old and has studied piano since she was 3. She has earned numerous awards in local and international competitions\, one of them leading to her performing in Carnegie Hall\, New York\, at the age of… Read More Concert | Julia Rozenkova (piano)
URL:https://cathedral.org.au/event/concert-lee-jones-jazz-guitar-2/
LOCATION:St Paul’s Cathedral\, Melbourne\, 206 Flinders Street\, Melbourne\, Victoria\, 3000\, Australia
CATEGORIES:Lunchtime Concert Series
ATTACH;FMTTYPE=image/jpeg:https://cathedral.org.au/wp-content/uploads/2023/11/397881590_804478728147284_3798682432282475359_n.jpg
ORGANIZER;CN="St Paul's Cathedral":MAILTO:events@stpaulscathedral.org.au
END:VEVENT
BEGIN:VEVENT
DTSTART;TZID=Australia/Melbourne:20231122T130000
DTEND;TZID=Australia/Melbourne:20231122T133000
DTSTAMP:20260422T184354
CREATED:20231102T004840Z
LAST-MODIFIED:20231102T004843Z
UID:37743-1700658000-1700659800@cathedral.org.au
SUMMARY:Concert | Rohan Lyer (tuba) and Dr Nicholas Young (piano)
DESCRIPTION:Julia Rozenkova is 14 years old and has studied piano since she was 3. She has earned numerous awards in local and international competitions\, one of them leading to her performing in Carnegie Hall\, New York\, at the age of… Read More Concert | Julia Rozenkova (piano)
URL:https://cathedral.org.au/event/concert-rohan-lyer-tuba-and-dr-nicholas-young-piano/
LOCATION:St Paul’s Cathedral\, Melbourne\, 206 Flinders Street\, Melbourne\, Victoria\, 3000\, Australia
CATEGORIES:Lunchtime Concert Series
ATTACH;FMTTYPE=image/jpeg:https://cathedral.org.au/wp-content/uploads/2023/11/397910729_804976134764210_1313978376680843633_n.jpg
ORGANIZER;CN="St Paul's Cathedral":MAILTO:events@stpaulscathedral.org.au
END:VEVENT
BEGIN:VEVENT
DTSTART;TZID=Australia/Melbourne:20231128T051000
DTEND;TZID=Australia/Melbourne:20231128T180000
DTSTAMP:20260422T184354
CREATED:20231127T030517Z
LAST-MODIFIED:20231127T030520Z
UID:37934-1701148200-1701194400@cathedral.org.au
SUMMARY:PVAW Choral Evensong | Marking 16 Days of Activism
DESCRIPTION:Julia Rozenkova is 14 years old and has studied piano since she was 3. She has earned numerous awards in local and international competitions\, one of them leading to her performing in Carnegie Hall\, New York\, at the age of… Read More Concert | Julia Rozenkova (piano)
URL:https://cathedral.org.au/event/pvaw-choral-evensong-marking-16-days-of-activism/
LOCATION:St Paul’s Cathedral\, Melbourne\, 206 Flinders Street\, Melbourne\, Victoria\, 3000\, Australia
CATEGORIES:Livestream,Services
ORGANIZER;CN="St Paul's Cathedral":MAILTO:events@stpaulscathedral.org.au
END:VEVENT
END:VCALENDAR