BEGIN:VCALENDAR
VERSION:2.0
PRODID:-//St Paul&#039;s Cathedral Melbourne - ECPv6.15.20//NONSGML v1.0//EN
CALSCALE:GREGORIAN
METHOD:PUBLISH
X-ORIGINAL-URL:https://cathedral.org.au
X-WR-CALDESC:Events for St Paul&#039;s Cathedral Melbourne
REFRESH-INTERVAL;VALUE=DURATION:PT1H
X-Robots-Tag:noindex
X-PUBLISHED-TTL:PT1H
BEGIN:VTIMEZONE
TZID:Australia/Melbourne
BEGIN:STANDARD
TZOFFSETFROM:+1100
TZOFFSETTO:+1000
TZNAME:AEST
DTSTART:20240406T160000
END:STANDARD
BEGIN:DAYLIGHT
TZOFFSETFROM:+1000
TZOFFSETTO:+1100
TZNAME:AEDT
DTSTART:20241005T160000
END:DAYLIGHT
BEGIN:STANDARD
TZOFFSETFROM:+1100
TZOFFSETTO:+1000
TZNAME:AEST
DTSTART:20250405T160000
END:STANDARD
BEGIN:DAYLIGHT
TZOFFSETFROM:+1000
TZOFFSETTO:+1100
TZNAME:AEDT
DTSTART:20251004T160000
END:DAYLIGHT
BEGIN:STANDARD
TZOFFSETFROM:+1100
TZOFFSETTO:+1000
TZNAME:AEST
DTSTART:20260404T160000
END:STANDARD
BEGIN:DAYLIGHT
TZOFFSETFROM:+1000
TZOFFSETTO:+1100
TZNAME:AEDT
DTSTART:20261003T160000
END:DAYLIGHT
END:VTIMEZONE
BEGIN:VEVENT
DTSTART;TZID=Australia/Melbourne:20250129T130000
DTEND;TZID=Australia/Melbourne:20250129T133000
DTSTAMP:20260420T155631
CREATED:20250127T234812Z
LAST-MODIFIED:20250127T234818Z
UID:41946-1738155600-1738157400@cathedral.org.au
SUMMARY:Concert | Josh Hooke (piano)
DESCRIPTION:At our 10am service on Sunday 4th of August we welcome the Consul-General of Japan and members of the Japanese community to the Cathedral as we mark Hiroshima Peace Day\, and pray for peace in our world and a future… Read More Service | Hiroshima Peace Day
URL:https://cathedral.org.au/event/concert-josh-hooke-piano-3/
LOCATION:St Paul’s Cathedral\, Melbourne\, 206 Flinders Street\, Melbourne\, Victoria\, 3000\, Australia
CATEGORIES:Concerts & Performances,Lunchtime Concert Series
ATTACH;FMTTYPE=image/jpeg:https://cathedral.org.au/wp-content/uploads/2025/01/Josh-Hooke.jpg
ORGANIZER;CN="St Paul's Cathedral":MAILTO:events@stpaulscathedral.org.au
END:VEVENT
BEGIN:VEVENT
DTSTART;TZID=Australia/Melbourne:20250130T140000
DTEND;TZID=Australia/Melbourne:20250130T153000
DTSTAMP:20260420T155631
CREATED:20250128T002415Z
LAST-MODIFIED:20250128T222522Z
UID:41953-1738245600-1738251000@cathedral.org.au
SUMMARY:Memorial Service for Michael Leunig
DESCRIPTION:At our 10am service on Sunday 4th of August we welcome the Consul-General of Japan and members of the Japanese community to the Cathedral as we mark Hiroshima Peace Day\, and pray for peace in our world and a future… Read More Service | Hiroshima Peace Day
URL:https://cathedral.org.au/event/memorial-service-for-michael-leunig/
LOCATION:St Paul’s Cathedral\, Melbourne\, 206 Flinders Street\, Melbourne\, Victoria\, 3000\, Australia
CATEGORIES:Livestream,Services
ATTACH;FMTTYPE=image/jpeg:https://cathedral.org.au/wp-content/uploads/2025/01/When-I-Talk-to-You.jpg
ORGANIZER;CN="St Paul's Cathedral":MAILTO:events@stpaulscathedral.org.au
END:VEVENT
BEGIN:VEVENT
DTSTART;TZID=Australia/Melbourne:20250205T130000
DTEND;TZID=Australia/Melbourne:20250205T133000
DTSTAMP:20260420T155631
CREATED:20250128T015041Z
LAST-MODIFIED:20250128T015044Z
UID:41975-1738760400-1738762200@cathedral.org.au
SUMMARY:Concert | Jacqueline Wang (piano)
DESCRIPTION:At our 10am service on Sunday 4th of August we welcome the Consul-General of Japan and members of the Japanese community to the Cathedral as we mark Hiroshima Peace Day\, and pray for peace in our world and a future… Read More Service | Hiroshima Peace Day
URL:https://cathedral.org.au/event/concert-jacqueline-wang-piano/
LOCATION:St Paul’s Cathedral\, Melbourne\, 206 Flinders Street\, Melbourne\, Victoria\, 3000\, Australia
CATEGORIES:Concerts & Performances,Lunchtime Concert Series
ATTACH;FMTTYPE=image/jpeg:https://cathedral.org.au/wp-content/uploads/2025/01/Jacqueline-Wang.jpg
ORGANIZER;CN="St Paul's Cathedral":MAILTO:events@stpaulscathedral.org.au
END:VEVENT
BEGIN:VEVENT
DTSTART;TZID=Australia/Melbourne:20250208T103000
DTEND;TZID=Australia/Melbourne:20250208T123000
DTSTAMP:20260420T155631
CREATED:20250128T001512Z
LAST-MODIFIED:20250204T011009Z
UID:41901-1739010600-1739017800@cathedral.org.au
SUMMARY:Service | Ordination of Deacons and Consecration of a Bishop
DESCRIPTION:At our 10am service on Sunday 4th of August we welcome the Consul-General of Japan and members of the Japanese community to the Cathedral as we mark Hiroshima Peace Day\, and pray for peace in our world and a future… Read More Service | Hiroshima Peace Day
URL:https://cathedral.org.au/event/service-ordination-of-deacons-and-consecration-of-a-bishop/
LOCATION:St Paul’s Cathedral\, Melbourne\, 206 Flinders Street\, Melbourne\, Victoria\, 3000\, Australia
CATEGORIES:Livestream,Services
ATTACH;FMTTYPE=image/jpeg:https://cathedral.org.au/wp-content/uploads/2025/01/082A9188.jpg
ORGANIZER;CN="St Paul's Cathedral":MAILTO:events@stpaulscathedral.org.au
END:VEVENT
BEGIN:VEVENT
DTSTART;TZID=Australia/Melbourne:20250209T160000
DTEND;TZID=Australia/Melbourne:20250209T173000
DTSTAMP:20260420T155631
CREATED:20250128T014041Z
LAST-MODIFIED:20250204T011623Z
UID:41964-1739116800-1739122200@cathedral.org.au
SUMMARY:Service | Choral Evensong with laying up of Pastoral Staff
DESCRIPTION:At our 10am service on Sunday 4th of August we welcome the Consul-General of Japan and members of the Japanese community to the Cathedral as we mark Hiroshima Peace Day\, and pray for peace in our world and a future… Read More Service | Hiroshima Peace Day
URL:https://cathedral.org.au/event/service-choral-evensong-with-laying-up-of-pastoral-staff/
LOCATION:St Paul’s Cathedral\, Melbourne\, 206 Flinders Street\, Melbourne\, Victoria\, 3000\, Australia
CATEGORIES:Livestream,Services
ATTACH;FMTTYPE=image/jpeg:https://cathedral.org.au/wp-content/uploads/2025/01/IMG_3281.jpg
ORGANIZER;CN="Anglican Diocese of Melbourne":MAILTO:reception@melbourneanglican.org.au
END:VEVENT
BEGIN:VEVENT
DTSTART;TZID=Australia/Melbourne:20250212T130000
DTEND;TZID=Australia/Melbourne:20250212T133000
DTSTAMP:20260420T155631
CREATED:20250128T015835Z
LAST-MODIFIED:20250128T015838Z
UID:41981-1739365200-1739367000@cathedral.org.au
SUMMARY:Concert | William Jack (cello)
DESCRIPTION:At our 10am service on Sunday 4th of August we welcome the Consul-General of Japan and members of the Japanese community to the Cathedral as we mark Hiroshima Peace Day\, and pray for peace in our world and a future… Read More Service | Hiroshima Peace Day
URL:https://cathedral.org.au/event/concert-william-jack-cello-3/
LOCATION:St Paul’s Cathedral\, Melbourne\, 206 Flinders Street\, Melbourne\, Victoria\, 3000\, Australia
CATEGORIES:Concerts & Performances,Lunchtime Concert Series
ATTACH;FMTTYPE=image/jpeg:https://cathedral.org.au/wp-content/uploads/2025/01/William-Jack-2.jpg
ORGANIZER;CN="St Paul's Cathedral":MAILTO:events@stpaulscathedral.org.au
END:VEVENT
BEGIN:VEVENT
DTSTART;TZID=Australia/Melbourne:20250219T130000
DTEND;TZID=Australia/Melbourne:20250219T133000
DTSTAMP:20260420T155631
CREATED:20250128T020134Z
LAST-MODIFIED:20250128T020138Z
UID:41986-1739970000-1739971800@cathedral.org.au
SUMMARY:Concert | Janice and Younmi Piano Duo
DESCRIPTION:At our 10am service on Sunday 4th of August we welcome the Consul-General of Japan and members of the Japanese community to the Cathedral as we mark Hiroshima Peace Day\, and pray for peace in our world and a future… Read More Service | Hiroshima Peace Day
URL:https://cathedral.org.au/event/concert-janice-and-younmi-piano-duo-2/
LOCATION:St Paul’s Cathedral\, Melbourne\, 206 Flinders Street\, Melbourne\, Victoria\, 3000\, Australia
CATEGORIES:Concerts & Performances,Lunchtime Concert Series
ATTACH;FMTTYPE=image/jpeg:https://cathedral.org.au/wp-content/uploads/2025/01/Janice-and-Yuonmi-2.jpg
ORGANIZER;CN="St Paul's Cathedral":MAILTO:events@stpaulscathedral.org.au
END:VEVENT
BEGIN:VEVENT
DTSTART;TZID=Australia/Melbourne:20250223T160000
DTEND;TZID=Australia/Melbourne:20250223T173000
DTSTAMP:20260420T155631
CREATED:20250206T010253Z
LAST-MODIFIED:20250206T010257Z
UID:42091-1740326400-1740331800@cathedral.org.au
SUMMARY:Choral Evensong In Thanksgiving for Memorial Choral Evensong for The Right Reverend Dr Keith Rayner AO
DESCRIPTION:At our 10am service on Sunday 4th of August we welcome the Consul-General of Japan and members of the Japanese community to the Cathedral as we mark Hiroshima Peace Day\, and pray for peace in our world and a future… Read More Service | Hiroshima Peace Day
URL:https://cathedral.org.au/event/choral-evensong-in-thanksgiving-for-memorial-choral-evensong-for-the-right-reverend-dr-keith-rayner-ao/
LOCATION:St Paul’s Cathedral\, Melbourne\, 206 Flinders Street\, Melbourne\, Victoria\, 3000\, Australia
CATEGORIES:Livestream,Services
ATTACH;FMTTYPE=image/jpeg:https://cathedral.org.au/wp-content/uploads/2025/02/Rayner.jpeg
ORGANIZER;CN="St Paul's Cathedral":MAILTO:events@stpaulscathedral.org.au
END:VEVENT
BEGIN:VEVENT
DTSTART;TZID=Australia/Melbourne:20250226T130000
DTEND;TZID=Australia/Melbourne:20250226T133000
DTSTAMP:20260420T155631
CREATED:20250213T233848Z
LAST-MODIFIED:20250213T233854Z
UID:42183-1740574800-1740576600@cathedral.org.au
SUMMARY:Concert | Charlie Wu (piano)
DESCRIPTION:At our 10am service on Sunday 4th of August we welcome the Consul-General of Japan and members of the Japanese community to the Cathedral as we mark Hiroshima Peace Day\, and pray for peace in our world and a future… Read More Service | Hiroshima Peace Day
URL:https://cathedral.org.au/event/concert-charlie-wu-piano/
LOCATION:St Paul’s Cathedral\, Melbourne\, 206 Flinders Street\, Melbourne\, Victoria\, 3000\, Australia
CATEGORIES:Concerts & Performances,Lunchtime Concert Series
ATTACH;FMTTYPE=image/jpeg:https://cathedral.org.au/wp-content/uploads/2025/02/Charlie-Wu-2.jpg
ORGANIZER;CN="St Paul's Cathedral":MAILTO:events@stpaulscathedral.org.au
END:VEVENT
BEGIN:VEVENT
DTSTART;TZID=Australia/Melbourne:20250227T140000
DTEND;TZID=Australia/Melbourne:20250227T170000
DTSTAMP:20260420T155631
CREATED:20250227T015044Z
LAST-MODIFIED:20250227T015047Z
UID:42358-1740664800-1740675600@cathedral.org.au
SUMMARY:Thursdays at Two | Canon Dr Tim Watson
DESCRIPTION:At our 10am service on Sunday 4th of August we welcome the Consul-General of Japan and members of the Japanese community to the Cathedral as we mark Hiroshima Peace Day\, and pray for peace in our world and a future… Read More Service | Hiroshima Peace Day
URL:https://cathedral.org.au/event/thursdays-at-two-canon-dr-tim-watson/
LOCATION:St Paul’s Cathedral\, Melbourne\, 206 Flinders Street\, Melbourne\, Victoria\, 3000\, Australia
CATEGORIES:Education & Learning
ORGANIZER;CN="St Paul's Cathedral":MAILTO:events@stpaulscathedral.org.au
END:VEVENT
BEGIN:VEVENT
DTSTART;TZID=Australia/Melbourne:20250301T150000
DTEND;TZID=Australia/Melbourne:20250301T170000
DTSTAMP:20260420T155631
CREATED:20250224T224109Z
LAST-MODIFIED:20250224T224113Z
UID:42318-1740841200-1740848400@cathedral.org.au
SUMMARY:Service | Gymanfa Ganu
DESCRIPTION:At our 10am service on Sunday 4th of August we welcome the Consul-General of Japan and members of the Japanese community to the Cathedral as we mark Hiroshima Peace Day\, and pray for peace in our world and a future… Read More Service | Hiroshima Peace Day
URL:https://cathedral.org.au/event/service-gymanfa-ganu/
LOCATION:St Paul’s Cathedral\, Melbourne\, 206 Flinders Street\, Melbourne\, Victoria\, 3000\, Australia
CATEGORIES:Livestream,Services
ORGANIZER;CN="Melbourne Welsh Church":MAILTO:melbournewelshchurch@bigpond.com
END:VEVENT
BEGIN:VEVENT
DTSTART;TZID=Australia/Melbourne:20250305T121500
DTEND;TZID=Australia/Melbourne:20250305T130000
DTSTAMP:20260420T155631
CREATED:20250227T040654Z
LAST-MODIFIED:20250303T042150Z
UID:42370-1741176900-1741179600@cathedral.org.au
SUMMARY:Service | Holy Eucharist with Imposition of Ashes
DESCRIPTION:At our 10am service on Sunday 4th of August we welcome the Consul-General of Japan and members of the Japanese community to the Cathedral as we mark Hiroshima Peace Day\, and pray for peace in our world and a future… Read More Service | Hiroshima Peace Day
URL:https://cathedral.org.au/event/holy-eucharist-with-imposition-of-ashes/
LOCATION:St Paul’s Cathedral\, Melbourne\, 206 Flinders Street\, Melbourne\, Victoria\, 3000\, Australia
ATTACH;FMTTYPE=image/jpeg:https://cathedral.org.au/wp-content/uploads/2025/02/1ww.jpg
ORGANIZER;CN="St Paul's Cathedral":MAILTO:events@stpaulscathedral.org.au
END:VEVENT
BEGIN:VEVENT
DTSTART;TZID=Australia/Melbourne:20250305T180000
DTEND;TZID=Australia/Melbourne:20250305T190000
DTSTAMP:20260420T155631
CREATED:20250227T041848Z
LAST-MODIFIED:20250305T025206Z
UID:42374-1741197600-1741201200@cathedral.org.au
SUMMARY:Service | Choral Eucharist with Imposition of Ashes
DESCRIPTION:At our 10am service on Sunday 4th of August we welcome the Consul-General of Japan and members of the Japanese community to the Cathedral as we mark Hiroshima Peace Day\, and pray for peace in our world and a future… Read More Service | Hiroshima Peace Day
URL:https://cathedral.org.au/event/service-choral-eucharist-with-imposition-of-ashes-2/
LOCATION:St Paul’s Cathedral\, Melbourne\, 206 Flinders Street\, Melbourne\, Victoria\, 3000\, Australia
ATTACH;FMTTYPE=image/jpeg:https://cathedral.org.au/wp-content/uploads/2025/02/1.jpg
ORGANIZER;CN="St Paul's Cathedral":MAILTO:events@stpaulscathedral.org.au
END:VEVENT
BEGIN:VEVENT
DTSTART;TZID=Australia/Melbourne:20250319T130000
DTEND;TZID=Australia/Melbourne:20250319T133000
DTSTAMP:20260420T155631
CREATED:20250318T011052Z
LAST-MODIFIED:20250318T011055Z
UID:42671-1742389200-1742391000@cathedral.org.au
SUMMARY:Concert | Eunchong Kim (soprano) and Younmi Oh (piano)
DESCRIPTION:At our 10am service on Sunday 4th of August we welcome the Consul-General of Japan and members of the Japanese community to the Cathedral as we mark Hiroshima Peace Day\, and pray for peace in our world and a future… Read More Service | Hiroshima Peace Day
URL:https://cathedral.org.au/event/concert-eunchong-kim-soprano-and-younmi-oh-piano/
LOCATION:St Paul’s Cathedral\, Melbourne\, 206 Flinders Street\, Melbourne\, Victoria\, 3000\, Australia
CATEGORIES:Concerts & Performances,Lunchtime Concert Series
ATTACH;FMTTYPE=image/jpeg:https://cathedral.org.au/wp-content/uploads/2025/03/Eunchong-Kim-and-Younmi-Oh.jpg
ORGANIZER;CN="St Paul's Cathedral":MAILTO:events@stpaulscathedral.org.au
END:VEVENT
BEGIN:VEVENT
DTSTART;TZID=Australia/Melbourne:20250323T160000
DTEND;TZID=Australia/Melbourne:20250323T170000
DTSTAMP:20260420T155631
CREATED:20250318T011837Z
LAST-MODIFIED:20250318T012522Z
UID:42680-1742745600-1742749200@cathedral.org.au
SUMMARY:Service | Mothers' Union Lady Day Eucharist
DESCRIPTION:At our 10am service on Sunday 4th of August we welcome the Consul-General of Japan and members of the Japanese community to the Cathedral as we mark Hiroshima Peace Day\, and pray for peace in our world and a future… Read More Service | Hiroshima Peace Day
URL:https://cathedral.org.au/event/service-mothers-union-lady-day-eucharist/
LOCATION:St Paul’s Cathedral\, Melbourne\, 206 Flinders Street\, Melbourne\, Victoria\, 3000\, Australia
CATEGORIES:Services
ATTACH;FMTTYPE=image/png:https://cathedral.org.au/wp-content/uploads/2025/03/melbourne-diocese-lady-day-2023-4_orig.png
ORGANIZER;CN="St Paul's Cathedral":MAILTO:events@stpaulscathedral.org.au
END:VEVENT
BEGIN:VEVENT
DTSTART;TZID=Australia/Melbourne:20250323T180000
DTEND;TZID=Australia/Melbourne:20250323T190000
DTSTAMP:20260420T155631
CREATED:20250318T012033Z
LAST-MODIFIED:20250318T012036Z
UID:42685-1742752800-1742756400@cathedral.org.au
SUMMARY:Service | Gather at St Paul's First Anniversary
DESCRIPTION:At our 10am service on Sunday 4th of August we welcome the Consul-General of Japan and members of the Japanese community to the Cathedral as we mark Hiroshima Peace Day\, and pray for peace in our world and a future… Read More Service | Hiroshima Peace Day
URL:https://cathedral.org.au/event/service-gather-at-st-pauls-first-anniversary/
LOCATION:St Paul’s Cathedral\, Melbourne\, 206 Flinders Street\, Melbourne\, Victoria\, 3000\, Australia
CATEGORIES:Services
ATTACH;FMTTYPE=image/jpeg:https://cathedral.org.au/wp-content/uploads/2025/02/22b.jpg
ORGANIZER;CN="St Paul's Cathedral":MAILTO:events@stpaulscathedral.org.au
END:VEVENT
BEGIN:VEVENT
DTSTART;TZID=Australia/Melbourne:20250326T130000
DTEND;TZID=Australia/Melbourne:20250326T133000
DTSTAMP:20260420T155631
CREATED:20250318T010803Z
LAST-MODIFIED:20250318T010806Z
UID:42666-1742994000-1742995800@cathedral.org.au
SUMMARY:Concert | Timothy Chiang (piano)
DESCRIPTION:At our 10am service on Sunday 4th of August we welcome the Consul-General of Japan and members of the Japanese community to the Cathedral as we mark Hiroshima Peace Day\, and pray for peace in our world and a future… Read More Service | Hiroshima Peace Day
URL:https://cathedral.org.au/event/concert-timothy-chiang-piano/
LOCATION:St Paul’s Cathedral\, Melbourne\, 206 Flinders Street\, Melbourne\, Victoria\, 3000\, Australia
CATEGORIES:Concerts & Performances,Lunchtime Concert Series
ATTACH;FMTTYPE=image/jpeg:https://cathedral.org.au/wp-content/uploads/2025/03/Timothy-Chiang.jpg
ORGANIZER;CN="St Paul's Cathedral":MAILTO:events@stpaulscathedral.org.au
END:VEVENT
BEGIN:VEVENT
DTSTART;TZID=Australia/Melbourne:20250327T033000
DTEND;TZID=Australia/Melbourne:20250327T040000
DTSTAMP:20260420T155631
CREATED:20250320T023533Z
LAST-MODIFIED:20250320T023536Z
UID:42703-1743046200-1743048000@cathedral.org.au
SUMMARY:Thursdays at Two | Ian and Katarina Tupper
DESCRIPTION:At our 10am service on Sunday 4th of August we welcome the Consul-General of Japan and members of the Japanese community to the Cathedral as we mark Hiroshima Peace Day\, and pray for peace in our world and a future… Read More Service | Hiroshima Peace Day
URL:https://cathedral.org.au/event/thursdays-at-two-ian-and-katarina-tupper/
LOCATION:St Paul’s Cathedral\, Melbourne\, 206 Flinders Street\, Melbourne\, Victoria\, 3000\, Australia
CATEGORIES:Education & Learning
ATTACH;FMTTYPE=image/jpeg:https://cathedral.org.au/wp-content/uploads/2025/03/mem-Ian-and-Katharina-2023-15-300x300-1.jpg
ORGANIZER;CN="St Paul's Cathedral":MAILTO:events@stpaulscathedral.org.au
END:VEVENT
BEGIN:VEVENT
DTSTART;TZID=Australia/Melbourne:20250331T130000
DTEND;TZID=Australia/Melbourne:20250331T133000
DTSTAMP:20260420T155631
CREATED:20250318T011424Z
LAST-MODIFIED:20250318T011427Z
UID:42675-1743426000-1743427800@cathedral.org.au
SUMMARY:Concert | Chloe Au (piano)
DESCRIPTION:At our 10am service on Sunday 4th of August we welcome the Consul-General of Japan and members of the Japanese community to the Cathedral as we mark Hiroshima Peace Day\, and pray for peace in our world and a future… Read More Service | Hiroshima Peace Day
URL:https://cathedral.org.au/event/concert-chloe-au-piano/
LOCATION:St Paul’s Cathedral\, Melbourne\, 206 Flinders Street\, Melbourne\, Victoria\, 3000\, Australia
CATEGORIES:Concerts & Performances,Lunchtime Concert Series
ATTACH;FMTTYPE=image/jpeg:https://cathedral.org.au/wp-content/uploads/2025/03/Chloe-Au.jpg
ORGANIZER;CN="St Paul's Cathedral":MAILTO:events@stpaulscathedral.org.au
END:VEVENT
BEGIN:VEVENT
DTSTART;TZID=Australia/Melbourne:20250406T160000
DTEND;TZID=Australia/Melbourne:20250406T170000
DTSTAMP:20260420T155631
CREATED:20250325T010112Z
LAST-MODIFIED:20250325T010114Z
UID:42781-1743955200-1743958800@cathedral.org.au
SUMMARY:Ecumenical Service of Evening Prayer to mark the 110th anniversary of the Armenian\, Assyrian and Greek Genocides
DESCRIPTION:At our 10am service on Sunday 4th of August we welcome the Consul-General of Japan and members of the Japanese community to the Cathedral as we mark Hiroshima Peace Day\, and pray for peace in our world and a future… Read More Service | Hiroshima Peace Day
URL:https://cathedral.org.au/event/ecumenical-service-of-evening-prayer-to-mark-the-110th-anniversary-of-the-armenian-assyrian-and-greek-genocides/
LOCATION:St Paul’s Cathedral\, Melbourne\, 206 Flinders Street\, Melbourne\, Victoria\, 3000\, Australia
CATEGORIES:Services
ATTACH;FMTTYPE=image/jpeg:https://cathedral.org.au/wp-content/uploads/2025/03/1b.jpg
ORGANIZER;CN="St Paul's Cathedral":MAILTO:events@stpaulscathedral.org.au
END:VEVENT
BEGIN:VEVENT
DTSTART;TZID=Australia/Melbourne:20250409T130000
DTEND;TZID=Australia/Melbourne:20250409T133000
DTSTAMP:20260420T155631
CREATED:20250331T032723Z
LAST-MODIFIED:20250331T032725Z
UID:42847-1744203600-1744205400@cathedral.org.au
SUMMARY:Concert | Ben Fu (piano)
DESCRIPTION:At our 10am service on Sunday 4th of August we welcome the Consul-General of Japan and members of the Japanese community to the Cathedral as we mark Hiroshima Peace Day\, and pray for peace in our world and a future… Read More Service | Hiroshima Peace Day
URL:https://cathedral.org.au/event/concert-ben-fu-piano-2/
LOCATION:St Paul’s Cathedral\, Melbourne\, 206 Flinders Street\, Melbourne\, Victoria\, 3000\, Australia
CATEGORIES:Concerts & Performances,Lunchtime Concert Series
ATTACH;FMTTYPE=image/jpeg:https://cathedral.org.au/wp-content/uploads/2025/03/Ben-Fu.jpg
ORGANIZER;CN="St Paul's Cathedral":MAILTO:events@stpaulscathedral.org.au
END:VEVENT
BEGIN:VEVENT
DTSTART;TZID=Australia/Melbourne:20250413T100000
DTEND;TZID=Australia/Melbourne:20250413T120000
DTSTAMP:20260420T155631
CREATED:20250227T042855Z
LAST-MODIFIED:20250305T030057Z
UID:42388-1744538400-1744545600@cathedral.org.au
SUMMARY:Service | Palm Sunday Choral Eucharist & Procession of Palms
DESCRIPTION:At our 10am service on Sunday 4th of August we welcome the Consul-General of Japan and members of the Japanese community to the Cathedral as we mark Hiroshima Peace Day\, and pray for peace in our world and a future… Read More Service | Hiroshima Peace Day
URL:https://cathedral.org.au/event/service-palm-sunday-choral-eucharist-procession-of-palms-2/
LOCATION:St Paul’s Cathedral\, Melbourne\, 206 Flinders Street\, Melbourne\, Victoria\, 3000\, Australia
ATTACH;FMTTYPE=image/jpeg:https://cathedral.org.au/wp-content/uploads/2025/02/1j.jpg
ORGANIZER;CN="St Paul's Cathedral":MAILTO:events@stpaulscathedral.org.au
END:VEVENT
BEGIN:VEVENT
DTSTART;TZID=Australia/Melbourne:20250413T160000
DTEND;TZID=Australia/Melbourne:20250413T170000
DTSTAMP:20260420T155631
CREATED:20250227T053529Z
LAST-MODIFIED:20250318T004732Z
UID:42401-1744560000-1744563600@cathedral.org.au
SUMMARY:Service | Choral Evensong & ANZAC Commemoration
DESCRIPTION:At our 10am service on Sunday 4th of August we welcome the Consul-General of Japan and members of the Japanese community to the Cathedral as we mark Hiroshima Peace Day\, and pray for peace in our world and a future… Read More Service | Hiroshima Peace Day
URL:https://cathedral.org.au/event/service-choral-evensong-anzac-commemoration-2/
LOCATION:St Paul’s Cathedral\, Melbourne\, 206 Flinders Street\, Melbourne\, Victoria\, 3000\, Australia
ATTACH;FMTTYPE=image/jpeg:https://cathedral.org.au/wp-content/uploads/2025/02/082A6359.jpg
ORGANIZER;CN="St Paul's Cathedral":MAILTO:events@stpaulscathedral.org.au
END:VEVENT
BEGIN:VEVENT
DTSTART;TZID=Australia/Melbourne:20250415T103000
DTEND;TZID=Australia/Melbourne:20250415T120000
DTSTAMP:20260420T155631
CREATED:20250227T043812Z
LAST-MODIFIED:20250415T011014Z
UID:42392-1744713000-1744718400@cathedral.org.au
SUMMARY:Service | Diocesan Chrism Eucharist & Renewal of Ministry Vows
DESCRIPTION:At our 10am service on Sunday 4th of August we welcome the Consul-General of Japan and members of the Japanese community to the Cathedral as we mark Hiroshima Peace Day\, and pray for peace in our world and a future… Read More Service | Hiroshima Peace Day
URL:https://cathedral.org.au/event/service-choral-evensong-anzac-commemoration/
LOCATION:St Paul’s Cathedral\, Melbourne\, 206 Flinders Street\, Melbourne\, Victoria\, 3000\, Australia
ATTACH;FMTTYPE=image/jpeg:https://cathedral.org.au/wp-content/uploads/2025/02/1-1.jpg
ORGANIZER;CN="St Paul's Cathedral":MAILTO:events@stpaulscathedral.org.au
END:VEVENT
BEGIN:VEVENT
DTSTART;TZID=Australia/Melbourne:20250416T130000
DTEND;TZID=Australia/Melbourne:20250416T133000
DTSTAMP:20260420T155631
CREATED:20250331T034317Z
LAST-MODIFIED:20250331T034319Z
UID:42853-1744808400-1744810200@cathedral.org.au
SUMMARY:Concert | Sacred Choral Works
DESCRIPTION:At our 10am service on Sunday 4th of August we welcome the Consul-General of Japan and members of the Japanese community to the Cathedral as we mark Hiroshima Peace Day\, and pray for peace in our world and a future… Read More Service | Hiroshima Peace Day
URL:https://cathedral.org.au/event/concert-sacred-choral-works/
LOCATION:St Paul’s Cathedral\, Melbourne\, 206 Flinders Street\, Melbourne\, Victoria\, 3000\, Australia
CATEGORIES:Concerts & Performances,Holy Week & Easter,Lunchtime Concert Series
ATTACH;FMTTYPE=image/jpeg:https://cathedral.org.au/wp-content/uploads/2025/03/sacred-choral-works.jpg
ORGANIZER;CN="St Paul's Cathedral":MAILTO:events@stpaulscathedral.org.au
END:VEVENT
BEGIN:VEVENT
DTSTART;TZID=Australia/Melbourne:20250417T121500
DTEND;TZID=Australia/Melbourne:20250417T130000
DTSTAMP:20260420T155631
CREATED:20250227T054111Z
LAST-MODIFIED:20250318T005539Z
UID:42404-1744892100-1744894800@cathedral.org.au
SUMMARY:Service | Maundy Thursday Holy Eucharist & Address
DESCRIPTION:At our 10am service on Sunday 4th of August we welcome the Consul-General of Japan and members of the Japanese community to the Cathedral as we mark Hiroshima Peace Day\, and pray for peace in our world and a future… Read More Service | Hiroshima Peace Day
URL:https://cathedral.org.au/event/service-maundy-thursday-holy-eucharist-address/
LOCATION:St Paul’s Cathedral\, Melbourne\, 206 Flinders Street\, Melbourne\, Victoria\, 3000\, Australia
ATTACH;FMTTYPE=image/jpeg:https://cathedral.org.au/wp-content/uploads/2025/02/1d.jpg
ORGANIZER;CN="St Paul's Cathedral":MAILTO:events@stpaulscathedral.org.au
END:VEVENT
BEGIN:VEVENT
DTSTART;TZID=Australia/Melbourne:20250417T180000
DTEND;TZID=Australia/Melbourne:20250417T190000
DTSTAMP:20260420T155631
CREATED:20250227T054355Z
LAST-MODIFIED:20250415T011058Z
UID:42408-1744912800-1744916400@cathedral.org.au
SUMMARY:Service | Choral Eucharist with Foot washing
DESCRIPTION:At our 10am service on Sunday 4th of August we welcome the Consul-General of Japan and members of the Japanese community to the Cathedral as we mark Hiroshima Peace Day\, and pray for peace in our world and a future… Read More Service | Hiroshima Peace Day
URL:https://cathedral.org.au/event/service-choral-eucharist-with-foot-washing/
LOCATION:St Paul’s Cathedral\, Melbourne\, 206 Flinders Street\, Melbourne\, Victoria\, 3000\, Australia
ATTACH;FMTTYPE=image/jpeg:https://cathedral.org.au/wp-content/uploads/2025/02/1b6.jpg
ORGANIZER;CN="St Paul's Cathedral":MAILTO:events@stpaulscathedral.org.au
END:VEVENT
BEGIN:VEVENT
DTSTART;TZID=Australia/Melbourne:20250418T090000
DTEND;TZID=Australia/Melbourne:20250418T103000
DTSTAMP:20260420T155631
CREATED:20250227T054611Z
LAST-MODIFIED:20250415T012553Z
UID:42411-1744966800-1744972200@cathedral.org.au
SUMMARY:Service | Good Friday Liturgy
DESCRIPTION:At our 10am service on Sunday 4th of August we welcome the Consul-General of Japan and members of the Japanese community to the Cathedral as we mark Hiroshima Peace Day\, and pray for peace in our world and a future… Read More Service | Hiroshima Peace Day
URL:https://cathedral.org.au/event/service-good-friday-liturgy-4/
LOCATION:St Paul’s Cathedral\, Melbourne\, 206 Flinders Street\, Melbourne\, Victoria\, 3000\, Australia
ATTACH;FMTTYPE=image/jpeg:https://cathedral.org.au/wp-content/uploads/2025/02/3a.jpg
ORGANIZER;CN="St Paul's Cathedral":MAILTO:events@stpaulscathedral.org.au
END:VEVENT
BEGIN:VEVENT
DTSTART;TZID=Australia/Melbourne:20250418T150000
DTEND;TZID=Australia/Melbourne:20250418T170000
DTSTAMP:20260420T155631
CREATED:20250227T055311Z
LAST-MODIFIED:20250415T012633Z
UID:42414-1744988400-1744995600@cathedral.org.au
SUMMARY:Liturgical Performance | 3.00pm Stainer’s Crucifixion
DESCRIPTION:At our 10am service on Sunday 4th of August we welcome the Consul-General of Japan and members of the Japanese community to the Cathedral as we mark Hiroshima Peace Day\, and pray for peace in our world and a future… Read More Service | Hiroshima Peace Day
URL:https://cathedral.org.au/event/liturgical-performance-3-00pm-stainers-crucifixion/
LOCATION:St Paul’s Cathedral\, Melbourne\, 206 Flinders Street\, Melbourne\, Victoria\, 3000\, Australia
ATTACH;FMTTYPE=image/jpeg:https://cathedral.org.au/wp-content/uploads/2025/02/1t.jpg
ORGANIZER;CN="St Paul's Cathedral":MAILTO:events@stpaulscathedral.org.au
END:VEVENT
BEGIN:VEVENT
DTSTART;TZID=Australia/Melbourne:20250420T060000
DTEND;TZID=Australia/Melbourne:20250420T073000
DTSTAMP:20260420T155631
CREATED:20250227T055902Z
LAST-MODIFIED:20250318T010005Z
UID:42418-1745128800-1745134200@cathedral.org.au
SUMMARY:Service | Easter Vigil & First Eucharist of the Resurrection
DESCRIPTION:At our 10am service on Sunday 4th of August we welcome the Consul-General of Japan and members of the Japanese community to the Cathedral as we mark Hiroshima Peace Day\, and pray for peace in our world and a future… Read More Service | Hiroshima Peace Day
URL:https://cathedral.org.au/event/service-easter-vigil-first-eucharist-of-the-resurrection/
LOCATION:St Paul’s Cathedral\, Melbourne\, 206 Flinders Street\, Melbourne\, Victoria\, 3000\, Australia
ATTACH;FMTTYPE=image/jpeg:https://cathedral.org.au/wp-content/uploads/2025/02/b1a1a.jpg
ORGANIZER;CN="St Paul's Cathedral":MAILTO:events@stpaulscathedral.org.au
END:VEVENT
END:VCALENDAR