BEGIN:VCALENDAR
VERSION:2.0
PRODID:-//St Paul&#039;s Cathedral Melbourne - ECPv6.15.20//NONSGML v1.0//EN
CALSCALE:GREGORIAN
METHOD:PUBLISH
X-ORIGINAL-URL:https://cathedral.org.au
X-WR-CALDESC:Events for St Paul&#039;s Cathedral Melbourne
REFRESH-INTERVAL;VALUE=DURATION:PT1H
X-Robots-Tag:noindex
X-PUBLISHED-TTL:PT1H
BEGIN:VTIMEZONE
TZID:Australia/Melbourne
BEGIN:STANDARD
TZOFFSETFROM:+1100
TZOFFSETTO:+1000
TZNAME:AEST
DTSTART:20250405T160000
END:STANDARD
BEGIN:DAYLIGHT
TZOFFSETFROM:+1000
TZOFFSETTO:+1100
TZNAME:AEDT
DTSTART:20251004T160000
END:DAYLIGHT
BEGIN:STANDARD
TZOFFSETFROM:+1100
TZOFFSETTO:+1000
TZNAME:AEST
DTSTART:20260404T160000
END:STANDARD
BEGIN:DAYLIGHT
TZOFFSETFROM:+1000
TZOFFSETTO:+1100
TZNAME:AEDT
DTSTART:20261003T160000
END:DAYLIGHT
BEGIN:STANDARD
TZOFFSETFROM:+1100
TZOFFSETTO:+1000
TZNAME:AEST
DTSTART:20270403T160000
END:STANDARD
BEGIN:DAYLIGHT
TZOFFSETFROM:+1000
TZOFFSETTO:+1100
TZNAME:AEDT
DTSTART:20271002T160000
END:DAYLIGHT
END:VTIMEZONE
BEGIN:VEVENT
DTSTART;TZID=Australia/Melbourne:20260311T130000
DTEND;TZID=Australia/Melbourne:20260311T133000
DTSTAMP:20260420T183251
CREATED:20260309T232429Z
LAST-MODIFIED:20260309T232433Z
UID:45217-1773234000-1773235800@cathedral.org.au
SUMMARY:Concert | En blanc et noir - Katrina Choi (piano)
DESCRIPTION:Join us on Sunday 12 April at 4pm for a joyful service of music and readings\, including a full performance of Beethoven's 9th "Choral" Symphony by Corpus Medicorum and The Orchestra Project\, conducted by Fabian Russell. The preacher is the… Read More Ode to Joy: Liturgical Performance of Beethoven 9
URL:https://cathedral.org.au/event/concert-en-blanc-et-noir-katrina-choi-piano/
LOCATION:St Paul’s Cathedral\, Melbourne\, 206 Flinders Street\, Melbourne\, Victoria\, 3000\, Australia
CATEGORIES:Concerts & Performances,Lunchtime Concert Series
ORGANIZER;CN="St Paul's Cathedral":MAILTO:events@stpaulscathedral.org.au
END:VEVENT
END:VCALENDAR