BEGIN:VCALENDAR
VERSION:2.0
PRODID:-//St Paul&#039;s Cathedral Melbourne - ECPv6.15.20//NONSGML v1.0//EN
CALSCALE:GREGORIAN
METHOD:PUBLISH
X-WR-CALNAME:St Paul&#039;s Cathedral Melbourne
X-ORIGINAL-URL:https://cathedral.org.au
X-WR-CALDESC:Events for St Paul&#039;s Cathedral Melbourne
REFRESH-INTERVAL;VALUE=DURATION:PT1H
X-Robots-Tag:noindex
X-PUBLISHED-TTL:PT1H
BEGIN:VTIMEZONE
TZID:Australia/Melbourne
BEGIN:STANDARD
TZOFFSETFROM:+1100
TZOFFSETTO:+1000
TZNAME:AEST
DTSTART:20250405T160000
END:STANDARD
BEGIN:DAYLIGHT
TZOFFSETFROM:+1000
TZOFFSETTO:+1100
TZNAME:AEDT
DTSTART:20251004T160000
END:DAYLIGHT
BEGIN:STANDARD
TZOFFSETFROM:+1100
TZOFFSETTO:+1000
TZNAME:AEST
DTSTART:20260404T160000
END:STANDARD
BEGIN:DAYLIGHT
TZOFFSETFROM:+1000
TZOFFSETTO:+1100
TZNAME:AEDT
DTSTART:20261003T160000
END:DAYLIGHT
BEGIN:STANDARD
TZOFFSETFROM:+1100
TZOFFSETTO:+1000
TZNAME:AEST
DTSTART:20270403T160000
END:STANDARD
BEGIN:DAYLIGHT
TZOFFSETFROM:+1000
TZOFFSETTO:+1100
TZNAME:AEDT
DTSTART:20271002T160000
END:DAYLIGHT
END:VTIMEZONE
BEGIN:VEVENT
DTSTART;TZID=Australia/Melbourne:20260122T111500
DTEND;TZID=Australia/Melbourne:20260122T121500
DTSTAMP:20260422T222910
CREATED:20260114T030722Z
LAST-MODIFIED:20260121T071730Z
UID:44909-1769080500-1769084100@cathedral.org.au
SUMMARY:Victorian State Vigil for the Victims of the Bondi Terror Attack
DESCRIPTION:Join us on Sunday 12 April at 4pm for a joyful service of music and readings\, including a full performance of Beethoven's 9th "Choral" Symphony by Corpus Medicorum and The Orchestra Project\, conducted by Fabian Russell. The preacher is the… Read More Ode to Joy: Liturgical Performance of Beethoven 9
URL:https://cathedral.org.au/event/multifaith-vigil/
LOCATION:Victoria
ATTACH;FMTTYPE=image/jpeg:https://cathedral.org.au/wp-content/uploads/2026/01/Thumbnail-Vigil-22-Jan-Website.jpg
END:VEVENT
END:VCALENDAR